BEGIN:VCALENDAR
VERSION:2.0
PRODID:-//Nebraska Support Ed - ECPv6.15.20//NONSGML v1.0//EN
CALSCALE:GREGORIAN
METHOD:PUBLISH
X-WR-CALNAME:Nebraska Support Ed
X-ORIGINAL-URL:https://nesupported.org
X-WR-CALDESC:Events for Nebraska Support Ed
REFRESH-INTERVAL;VALUE=DURATION:PT1H
X-Robots-Tag:noindex
X-PUBLISHED-TTL:PT1H
BEGIN:VTIMEZONE
TZID:America/Chicago
BEGIN:DAYLIGHT
TZOFFSETFROM:-0600
TZOFFSETTO:-0500
TZNAME:CDT
DTSTART:20240310T080000
END:DAYLIGHT
BEGIN:STANDARD
TZOFFSETFROM:-0500
TZOFFSETTO:-0600
TZNAME:CST
DTSTART:20241103T070000
END:STANDARD
BEGIN:DAYLIGHT
TZOFFSETFROM:-0600
TZOFFSETTO:-0500
TZNAME:CDT
DTSTART:20250309T080000
END:DAYLIGHT
BEGIN:STANDARD
TZOFFSETFROM:-0500
TZOFFSETTO:-0600
TZNAME:CST
DTSTART:20251102T070000
END:STANDARD
BEGIN:DAYLIGHT
TZOFFSETFROM:-0600
TZOFFSETTO:-0500
TZNAME:CDT
DTSTART:20260308T080000
END:DAYLIGHT
BEGIN:STANDARD
TZOFFSETFROM:-0500
TZOFFSETTO:-0600
TZNAME:CST
DTSTART:20261101T070000
END:STANDARD
BEGIN:DAYLIGHT
TZOFFSETFROM:-0600
TZOFFSETTO:-0500
TZNAME:CDT
DTSTART:20270314T080000
END:DAYLIGHT
BEGIN:STANDARD
TZOFFSETFROM:-0500
TZOFFSETTO:-0600
TZNAME:CST
DTSTART:20271107T070000
END:STANDARD
END:VTIMEZONE
BEGIN:VEVENT
DTSTART;TZID=America/Chicago:20260320T083000
DTEND;TZID=America/Chicago:20260320T163000
DTSTAMP:20260425T223256
CREATED:20250916T132745Z
LAST-MODIFIED:20251015T202111Z
UID:10000069-1773995400-1774024200@nesupported.org
SUMMARY:NRCSA Spring Conference
DESCRIPTION:
URL:https://nesupported.org/event/nrcsa-spring-conference-3/
LOCATION:Younes Conference Center North\, 913 W Talmadge Rd\, Kearney\, NE\, United States
GEO:40.673794;-99.094125
X-APPLE-STRUCTURED-LOCATION;VALUE=URI;X-ADDRESS=Younes Conference Center North 913 W Talmadge Rd Kearney NE United States;X-APPLE-RADIUS=500;X-TITLE=913 W Talmadge Rd:geo:-99.094125,40.673794
END:VEVENT
BEGIN:VEVENT
DTSTART;TZID=America/Chicago:20260319T083000
DTEND;TZID=America/Chicago:20260319T163000
DTSTAMP:20260425T223256
CREATED:20250916T132745Z
LAST-MODIFIED:20251015T202120Z
UID:10000068-1773909000-1773937800@nesupported.org
SUMMARY:NRCSA Spring Conference
DESCRIPTION:
URL:https://nesupported.org/event/nrcsa-spring-conference-2/
LOCATION:Younes Conference Center North\, 913 W Talmadge Rd\, Kearney\, NE\, United States
GEO:40.673794;-99.094125
X-APPLE-STRUCTURED-LOCATION;VALUE=URI;X-ADDRESS=Younes Conference Center North 913 W Talmadge Rd Kearney NE United States;X-APPLE-RADIUS=500;X-TITLE=913 W Talmadge Rd:geo:-99.094125,40.673794
END:VEVENT
BEGIN:VEVENT
DTSTART;TZID=America/Chicago:20260318T083000
DTEND;TZID=America/Chicago:20260318T163000
DTSTAMP:20260425T223256
CREATED:20250916T132744Z
LAST-MODIFIED:20251015T202136Z
UID:10000067-1773822600-1773851400@nesupported.org
SUMMARY:NRCSA Spring Conference
DESCRIPTION:
URL:https://nesupported.org/event/nrcsa-spring-conference/
LOCATION:Younes Conference Center North\, 913 W Talmadge Rd\, Kearney\, NE\, United States
GEO:40.673794;-99.094125
X-APPLE-STRUCTURED-LOCATION;VALUE=URI;X-ADDRESS=Younes Conference Center North 913 W Talmadge Rd Kearney NE United States;X-APPLE-RADIUS=500;X-TITLE=913 W Talmadge Rd:geo:-99.094125,40.673794
END:VEVENT
BEGIN:VEVENT
DTSTART;TZID=America/Chicago:20251103T083000
DTEND;TZID=America/Chicago:20251103T153000
DTSTAMP:20260425T223256
CREATED:20250916T132743Z
LAST-MODIFIED:20251103T164943Z
UID:10000057-1762158600-1762183800@nesupported.org
SUMMARY:Nebraska Fall Ed Tech Conference
DESCRIPTION:Schedule: Monday\, November 3 \n8:30 –  9:30 a.m.  Teaching in a World That Won’t Stand Still with Trevor Muir \nInnovation in education shouldn’t be about abandoning best practices\, but embracing what works while staying open to change. In an era shaped by artificial intelligence and rapid change\, teachers need an innovative mindset that blends creative risk-taking\, continuous improvement\, and adaptability while staying grounded in tried-and-true pedagogy. It’s a mindset that values bold ideas built on a solid foundation of timeless wisdom in a constantly evolving world. This keynote explores how to develop that mindset\, apply it effectively\, and use it to help both educators and students thrive. \n \n9:30 -10:00 a.m.  Exhibit Break & Poster Sessions \n10:00 -10:45 a.m.  Select-a-Session \n11:00 -11:45 a.m.  Select-a-Session \n11:45 -12:30 p.m.  Lunch \n12:30 –  1:15 p.m.  Select-a-Session \n1:30 –  2:15 p.m.  Select-a-Session \n2:30 –  3:15 p.m.  Select-a-Session \n \nAlso at the 2025 Fall Ed Tech Conference: \n\nOver 22 Exhibitors to Connect With\n2 Poster Presentations to Learn From\n25 Breakout Sessions on all things ed tech including:\nHands-on Sessions\nCanva and Google Specific Sessions\nCybersecurity Sessions\nBest Practice Sessions\nAnd More!\n\n \n \nTrevor Muir is a passionate educator\, speaker\, and author who believes in the transformative power of education. He has gained international recognition for his innovative teaching methods and inspiring content\, which empower teachers and students to unleash their full potential. Trevor began his career as a teacher at a New Tech National Lab Site school in Michigan\, where he taught middle and high school using project-based learning. From his experience there and from leading PBL in a more traditional school\, as well as his time as a National Faculty Member for the Buck Institute\, Trevor founded EpicPBL\, one of the leading project-based learning training programs in America. While continuing to teach pre-service teachers at Grand Valley State University\, Trevor also delivers keynote speeches and conducts workshops about student engagement and teacher success at schools and conferences all around the world. Trevor’s dedication to education is reflected in his books\, videos\, blog\, and podcast which showcase his work in the classroom and the effectiveness of purposeful learning. He is also the founder of The Epic Classroom\, his social media where he connects with millions of educators who share his passion for teaching and learning. Trevor believes in the potential of every student and teacher\, and his work is driven by his desire to create positive change in the educational landscape to unlock more of that potential. \n \nLodging InformationFairfield Inn – KearneyCall (308) 236-4200Mention: Nebraska Fall Ed Tech ConferenceRate: $139.95 + tax \nExhibit and Sponsorship OpportunitiesThe Nebraska Council of School Administrators (NCSA) and the Nebraska Educational Technology Association (NETA) are excited to continue a partnership for the Nebraska Fall Ed Tech Conference. The importance of technology and the pace at which it is changing and improving cannot be denied and this is your chance to connect with Nebraska educators on this topic. \nPlease call our office at 800-793-6272 to see what opportunties we have left. 
URL:https://nesupported.org/event/nebraska-fall-ed-tech-conference/
LOCATION:Younes Conference Center North\, 913 W Talmadge Rd\, Kearney\, NE\, United States
CATEGORIES:Statewide Education Associations
GEO:40.673794;-99.094125
X-APPLE-STRUCTURED-LOCATION;VALUE=URI;X-ADDRESS=Younes Conference Center North 913 W Talmadge Rd Kearney NE United States;X-APPLE-RADIUS=500;X-TITLE=913 W Talmadge Rd:geo:-99.094125,40.673794
END:VEVENT
BEGIN:VEVENT
DTSTART;TZID=America/Chicago:20251003T083000
DTEND;TZID=America/Chicago:20251003T153000
DTSTAMP:20260425T223256
CREATED:20250916T132741Z
LAST-MODIFIED:20250916T160818Z
UID:10000048-1759480200-1759505400@nesupported.org
SUMMARY:NATM Annual Conference
DESCRIPTION:Nebraska Association of Teachers if Mathematics \nA full day of breakout sessions led by K-12 math teachers from around Nebraska. Corwin author Pam Harris will join us for a keynote address as well as grade band breakout sessions. All K-12 math educators and preservice teachers are welcome to attend! \nKarla Bandemer\, kbandem@lps.org\, www.natmathematics.org
URL:https://nesupported.org/event/natm-annual-conference/
LOCATION:Younes Conference Center North\, 913 W Talmadge Rd\, Kearney\, NE\, United States
CATEGORIES:Statewide Education Associations
GEO:40.673794;-99.094125
X-APPLE-STRUCTURED-LOCATION;VALUE=URI;X-ADDRESS=Younes Conference Center North 913 W Talmadge Rd Kearney NE United States;X-APPLE-RADIUS=500;X-TITLE=913 W Talmadge Rd:geo:-99.094125,40.673794
END:VEVENT
END:VCALENDAR