BEGIN:VCALENDAR
VERSION:2.0
PRODID:-//Nebraska Support Ed - ECPv6.15.20//NONSGML v1.0//EN
CALSCALE:GREGORIAN
METHOD:PUBLISH
X-ORIGINAL-URL:https://nesupported.org
X-WR-CALDESC:Events for Nebraska Support Ed
REFRESH-INTERVAL;VALUE=DURATION:PT1H
X-Robots-Tag:noindex
X-PUBLISHED-TTL:PT1H
BEGIN:VTIMEZONE
TZID:America/Chicago
BEGIN:DAYLIGHT
TZOFFSETFROM:-0600
TZOFFSETTO:-0500
TZNAME:CDT
DTSTART:20250309T080000
END:DAYLIGHT
BEGIN:STANDARD
TZOFFSETFROM:-0500
TZOFFSETTO:-0600
TZNAME:CST
DTSTART:20251102T070000
END:STANDARD
BEGIN:DAYLIGHT
TZOFFSETFROM:-0600
TZOFFSETTO:-0500
TZNAME:CDT
DTSTART:20260308T080000
END:DAYLIGHT
BEGIN:STANDARD
TZOFFSETFROM:-0500
TZOFFSETTO:-0600
TZNAME:CST
DTSTART:20261101T070000
END:STANDARD
BEGIN:DAYLIGHT
TZOFFSETFROM:-0600
TZOFFSETTO:-0500
TZNAME:CDT
DTSTART:20270314T080000
END:DAYLIGHT
BEGIN:STANDARD
TZOFFSETFROM:-0500
TZOFFSETTO:-0600
TZNAME:CST
DTSTART:20271107T070000
END:STANDARD
END:VTIMEZONE
BEGIN:VEVENT
DTSTART;TZID=America/Chicago:20260907T070000
DTEND;TZID=America/Chicago:20260907T170000
DTSTAMP:20260419T104043
CREATED:20260225T041638Z
LAST-MODIFIED:20260324T105838Z
UID:10000203-1788764400-1788800400@nesupported.org
SUMMARY:ESUCC Closed - Labor Day
DESCRIPTION:Added by Mindy Reed 2.17.2026
URL:https://nesupported.org/event/esucc-closed-labor-day/
CATEGORIES:ESUCC
END:VEVENT
BEGIN:VEVENT
DTSTART;TZID=America/Chicago:20260915T100000
DTEND;TZID=America/Chicago:20260915T111500
DTSTAMP:20260419T104043
CREATED:20260120T185314Z
LAST-MODIFIED:20260324T105838Z
UID:10000129-1789466400-1789470900@nesupported.org
SUMMARY:ESUCC Executive Committee Meeting
DESCRIPTION:Added by Mindy Reed 1.19.2026
URL:https://nesupported.org/event/esucc-executive-committee-meeting-6/
CATEGORIES:ESUCC
END:VEVENT
BEGIN:VEVENT
DTSTART;TZID=America/Chicago:20260915T113000
DTEND;TZID=America/Chicago:20260915T120000
DTSTAMP:20260419T104043
CREATED:20260120T185314Z
LAST-MODIFIED:20260324T105838Z
UID:10000130-1789471800-1789473600@nesupported.org
SUMMARY:ESUCC Budget Hearing
DESCRIPTION:Added by Mindy Reed 1.19.2026
URL:https://nesupported.org/event/esucc-budget-hearing/
CATEGORIES:ESUCC
END:VEVENT
BEGIN:VEVENT
DTSTART;TZID=America/Chicago:20260915T121500
DTEND;TZID=America/Chicago:20260915T133000
DTSTAMP:20260419T104043
CREATED:20260120T185314Z
LAST-MODIFIED:20260324T105839Z
UID:10000131-1789474500-1789479000@nesupported.org
SUMMARY:ESUCC Educational Resources Committee Meeting
DESCRIPTION:Added by Mindy Reed 1.19.2026
URL:https://nesupported.org/event/esucc-educational-resources-committee-meeting-6/
CATEGORIES:ESUCC
END:VEVENT
BEGIN:VEVENT
DTSTART;TZID=America/Chicago:20260915T134500
DTEND;TZID=America/Chicago:20260915T150000
DTSTAMP:20260419T104043
CREATED:20260120T185314Z
LAST-MODIFIED:20260324T105839Z
UID:10000132-1789479900-1789484400@nesupported.org
SUMMARY:ESUCC Legal Committee Meeting
DESCRIPTION:Added by Mindy Reed 1.19.2026
URL:https://nesupported.org/event/esucc-legal-committee-meeting-6/
CATEGORIES:ESUCC
END:VEVENT
BEGIN:VEVENT
DTSTART;TZID=America/Chicago:20260915T151500
DTEND;TZID=America/Chicago:20260915T163000
DTSTAMP:20260419T104043
CREATED:20260120T185314Z
LAST-MODIFIED:20260324T105839Z
UID:10000133-1789485300-1789489800@nesupported.org
SUMMARY:ESUCC Information Services Committee Meeting
DESCRIPTION:Added by Mindy Reed 1.19.2026
URL:https://nesupported.org/event/esucc-information-services-committee-meeting-6/
CATEGORIES:ESUCC
END:VEVENT
BEGIN:VEVENT
DTSTART;TZID=America/Chicago:20260916T080000
DTEND;TZID=America/Chicago:20260916T110000
DTSTAMP:20260419T104043
CREATED:20260120T185314Z
LAST-MODIFIED:20260324T105839Z
UID:10000134-1789545600-1789556400@nesupported.org
SUMMARY:ESUCC Board Meeting
DESCRIPTION:Added by Mindy Reed 1.19.2026
URL:https://nesupported.org/event/esucc-board-meeting/
CATEGORIES:ESUCC
END:VEVENT
END:VCALENDAR