BEGIN:VCALENDAR
VERSION:2.0
PRODID:-//Nebraska Support Ed - ECPv6.15.20//NONSGML v1.0//EN
CALSCALE:GREGORIAN
METHOD:PUBLISH
X-WR-CALNAME:Nebraska Support Ed
X-ORIGINAL-URL:https://nesupported.org
X-WR-CALDESC:Events for Nebraska Support Ed
REFRESH-INTERVAL;VALUE=DURATION:PT1H
X-Robots-Tag:noindex
X-PUBLISHED-TTL:PT1H
BEGIN:VTIMEZONE
TZID:America/Chicago
BEGIN:DAYLIGHT
TZOFFSETFROM:-0600
TZOFFSETTO:-0500
TZNAME:CDT
DTSTART:20240310T080000
END:DAYLIGHT
BEGIN:STANDARD
TZOFFSETFROM:-0500
TZOFFSETTO:-0600
TZNAME:CST
DTSTART:20241103T070000
END:STANDARD
BEGIN:DAYLIGHT
TZOFFSETFROM:-0600
TZOFFSETTO:-0500
TZNAME:CDT
DTSTART:20250309T080000
END:DAYLIGHT
BEGIN:STANDARD
TZOFFSETFROM:-0500
TZOFFSETTO:-0600
TZNAME:CST
DTSTART:20251102T070000
END:STANDARD
BEGIN:DAYLIGHT
TZOFFSETFROM:-0600
TZOFFSETTO:-0500
TZNAME:CDT
DTSTART:20260308T080000
END:DAYLIGHT
BEGIN:STANDARD
TZOFFSETFROM:-0500
TZOFFSETTO:-0600
TZNAME:CST
DTSTART:20261101T070000
END:STANDARD
END:VTIMEZONE
BEGIN:VEVENT
DTSTART;TZID=America/Chicago:20251211T080000
DTEND;TZID=America/Chicago:20251211T130000
DTSTAMP:20260425T143420
CREATED:20250916T132744Z
LAST-MODIFIED:20251015T201828Z
UID:10000063-1765440000-1765458000@nesupported.org
SUMMARY:NCSA Legislative Preview
DESCRIPTION:Legislative PreviewDecember 11\, 2024NCSA Office\, Lincoln\, NE  -or- VirtualLook for registration to open in the fall. \nThe NCSA Legislative Preview Conference provides insight into issues of importance to school administrators that may be coming in the 2026 session of the Nebraska Legislature. The morning will include presentations from Nebraska Senators\,  NCSA’s Legislative Team\, and more.  
URL:https://nesupported.org/event/ncsa-legislative-preview/
LOCATION:440 S 13th St\, Omaha\, NE\, United States
CATEGORIES:Statewide Education Associations
GEO:41.262003;-95.933564
END:VEVENT
END:VCALENDAR