BEGIN:VCALENDAR
VERSION:2.0
PRODID:-//Nebraska Support Ed - ECPv6.15.20//NONSGML v1.0//EN
CALSCALE:GREGORIAN
METHOD:PUBLISH
X-ORIGINAL-URL:https://nesupported.org
X-WR-CALDESC:Events for Nebraska Support Ed
REFRESH-INTERVAL;VALUE=DURATION:PT1H
X-Robots-Tag:noindex
X-PUBLISHED-TTL:PT1H
BEGIN:VTIMEZONE
TZID:America/Chicago
BEGIN:DAYLIGHT
TZOFFSETFROM:-0600
TZOFFSETTO:-0500
TZNAME:CDT
DTSTART:20240310T080000
END:DAYLIGHT
BEGIN:STANDARD
TZOFFSETFROM:-0500
TZOFFSETTO:-0600
TZNAME:CST
DTSTART:20241103T070000
END:STANDARD
BEGIN:DAYLIGHT
TZOFFSETFROM:-0600
TZOFFSETTO:-0500
TZNAME:CDT
DTSTART:20250309T080000
END:DAYLIGHT
BEGIN:STANDARD
TZOFFSETFROM:-0500
TZOFFSETTO:-0600
TZNAME:CST
DTSTART:20251102T070000
END:STANDARD
BEGIN:DAYLIGHT
TZOFFSETFROM:-0600
TZOFFSETTO:-0500
TZNAME:CDT
DTSTART:20260308T080000
END:DAYLIGHT
BEGIN:STANDARD
TZOFFSETFROM:-0500
TZOFFSETTO:-0600
TZNAME:CST
DTSTART:20261101T070000
END:STANDARD
BEGIN:DAYLIGHT
TZOFFSETFROM:-0600
TZOFFSETTO:-0500
TZNAME:CDT
DTSTART:20270314T080000
END:DAYLIGHT
BEGIN:STANDARD
TZOFFSETFROM:-0500
TZOFFSETTO:-0600
TZNAME:CST
DTSTART:20271107T070000
END:STANDARD
END:VTIMEZONE
BEGIN:VTIMEZONE
TZID:America/Denver
BEGIN:DAYLIGHT
TZOFFSETFROM:-0700
TZOFFSETTO:-0600
TZNAME:MDT
DTSTART:20240310T090000
END:DAYLIGHT
BEGIN:STANDARD
TZOFFSETFROM:-0600
TZOFFSETTO:-0700
TZNAME:MST
DTSTART:20241103T080000
END:STANDARD
BEGIN:DAYLIGHT
TZOFFSETFROM:-0700
TZOFFSETTO:-0600
TZNAME:MDT
DTSTART:20250309T090000
END:DAYLIGHT
BEGIN:STANDARD
TZOFFSETFROM:-0600
TZOFFSETTO:-0700
TZNAME:MST
DTSTART:20251102T080000
END:STANDARD
BEGIN:DAYLIGHT
TZOFFSETFROM:-0700
TZOFFSETTO:-0600
TZNAME:MDT
DTSTART:20260308T090000
END:DAYLIGHT
BEGIN:STANDARD
TZOFFSETFROM:-0600
TZOFFSETTO:-0700
TZNAME:MST
DTSTART:20261101T080000
END:STANDARD
END:VTIMEZONE
BEGIN:VEVENT
DTSTART;TZID=America/Chicago:20260408T100000
DTEND;TZID=America/Chicago:20260408T113000
DTSTAMP:20260425T192616
CREATED:20260122T204342Z
LAST-MODIFIED:20260122T204342Z
UID:10000201-1775642400-1775647800@nesupported.org
SUMMARY:World Language Guest Speaker - Caitlin Cornell
DESCRIPTION:Disability and Additional Language Teaching
URL:https://nesupported.org/event/world-language-guest-speaker-caitlin-cornell/
LOCATION:Virtual
CATEGORIES:NDE
END:VEVENT
BEGIN:VEVENT
DTSTART;TZID=America/Chicago:20260325T160000
DTEND;TZID=America/Chicago:20260325T173000
DTSTAMP:20260425T192616
CREATED:20260122T204039Z
LAST-MODIFIED:20260122T204039Z
UID:10000200-1774454400-1774459800@nesupported.org
SUMMARY:World Language Guest Speaker - Nebraskan World Language Teacher Representatives
DESCRIPTION:Round Table Discussion: Conference Roadshow Comes Home!
URL:https://nesupported.org/event/world-language-guest-speaker-nebraskan-world-language-teacher-representatives/
LOCATION:Virtual
CATEGORIES:NDE
END:VEVENT
BEGIN:VEVENT
DTSTART;TZID=America/Chicago:20260308T163000
DTEND;TZID=America/Chicago:20260310T160000
DTSTAMP:20260425T192616
CREATED:20251216T170456Z
LAST-MODIFIED:20251216T170456Z
UID:10000086-1772987400-1773158400@nesupported.org
SUMMARY:HOSA State Leadership Conference
DESCRIPTION:
URL:https://nesupported.org/event/hosa-state-leadership-conference/
CATEGORIES:NDE
END:VEVENT
BEGIN:VEVENT
DTSTART;TZID=America/Chicago:20260228T100000
DTEND;TZID=America/Chicago:20260228T233000
DTSTAMP:20260425T192616
CREATED:20260122T203722Z
LAST-MODIFIED:20260122T203722Z
UID:10000199-1772272800-1772321400@nesupported.org
SUMMARY:World Language Guest Speaker - Dr. Christopher Jacobs
DESCRIPTION:Vibe check: Connecting with Gen Z & Alpha fam and promoting proficiency through current trends
URL:https://nesupported.org/event/world-language-guest-speaker-dr-christopher-jacobs/
LOCATION:Virtual
CATEGORIES:NDE
END:VEVENT
BEGIN:VEVENT
DTSTART;TZID=America/Chicago:20260225T160000
DTEND;TZID=America/Chicago:20260225T173000
DTSTAMP:20260425T192616
CREATED:20260122T203325Z
LAST-MODIFIED:20260122T203349Z
UID:10000198-1772035200-1772040600@nesupported.org
SUMMARY:World Language Guest Speaker - Dr Nick Ziegler & Kelly Garcia
DESCRIPTION:Artificial Intelligence: Enhancing Best Practice
URL:https://nesupported.org/event/world-language-guest-speaker-dr-nick-ziegler-kelly-garcia/
LOCATION:Virtual
CATEGORIES:NDE
END:VEVENT
BEGIN:VEVENT
DTSTART;TZID=America/Chicago:20260218T160000
DTEND;TZID=America/Chicago:20260218T173000
DTSTAMP:20260425T192616
CREATED:20260122T202936Z
LAST-MODIFIED:20260122T202936Z
UID:10000197-1771430400-1771435800@nesupported.org
SUMMARY:World Language Guest Speaker - Tom Welch
DESCRIPTION:FILL in the Blank – How to Be Ready for World Language Opportunities and Challenges in the AI Age
URL:https://nesupported.org/event/world-language-guest-speaker-tom-welch/
LOCATION:Virtual
CATEGORIES:NDE
END:VEVENT
BEGIN:VEVENT
DTSTART;TZID=America/Chicago:20260203T160000
DTEND;TZID=America/Chicago:20260203T173000
DTSTAMP:20260425T192616
CREATED:20260122T202543Z
LAST-MODIFIED:20260122T202543Z
UID:10000196-1770134400-1770139800@nesupported.org
SUMMARY:World Language Guest Speaker - Abla Hasan
DESCRIPTION:Arabic as Lingua sacra: an Intratextual Introduction
URL:https://nesupported.org/event/world-language-guest-speaker-abla-hasan/
LOCATION:Virtual
CATEGORIES:NDE
END:VEVENT
BEGIN:VEVENT
DTSTART;TZID=America/Chicago:20251110T080000
DTEND;TZID=America/Chicago:20251110T170000
DTSTAMP:20260425T192616
CREATED:20250815T170607Z
LAST-MODIFIED:20250815T170607Z
UID:10000046-1762761600-1762794000@nesupported.org
SUMMARY:Mind Bending Careers Conference
DESCRIPTION:
URL:https://nesupported.org/event/mind-bending-careers-conference/
LOCATION:University of Nebraska – Kearney
CATEGORIES:NDE
END:VEVENT
BEGIN:VEVENT
DTSTART;TZID=America/Chicago:20251016T090000
DTEND;TZID=America/Chicago:20251016T170000
DTSTAMP:20260425T192616
CREATED:20250815T165526Z
LAST-MODIFIED:20250815T165526Z
UID:10000045-1760605200-1760634000@nesupported.org
SUMMARY:Nebraska Adult Education Conference
DESCRIPTION:
URL:https://nesupported.org/event/nebraska-adult-education-conference-2/
CATEGORIES:NDE
END:VEVENT
BEGIN:VEVENT
DTSTART;TZID=America/Chicago:20251015T083000
DTEND;TZID=America/Chicago:20251015T120000
DTSTAMP:20260425T192616
CREATED:20251001T195323Z
LAST-MODIFIED:20251001T195323Z
UID:10000082-1760517000-1760529600@nesupported.org
SUMMARY:Assessment Roadshow
DESCRIPTION:This event will cover Nebraska statewide assessment and accountability for 2025-2026.
URL:https://nesupported.org/event/assessment-roadshow-3/
LOCATION:Nebraska State Boardroom – NDE\, 500 S 84th St.\, 2nd Floor\, Lincoln\, NE\, 68510\, United States
CATEGORIES:NDE
END:VEVENT
BEGIN:VEVENT
DTSTART;TZID=America/Chicago:20251014T090000
DTEND;TZID=America/Chicago:20251015T170000
DTSTAMP:20260425T192616
CREATED:20250815T165257Z
LAST-MODIFIED:20250815T165257Z
UID:10000044-1760432400-1760547600@nesupported.org
SUMMARY:EdRising Fall Leadership Conference (FLC)
DESCRIPTION:
URL:https://nesupported.org/event/edrising-fall-leadership-conference-flc/
LOCATION:University of Nebraska – Omaha
CATEGORIES:NDE
END:VEVENT
BEGIN:VEVENT
DTSTART;TZID=America/Chicago:20251009T090000
DTEND;TZID=America/Chicago:20251009T160000
DTSTAMP:20260425T192616
CREATED:20250815T164924Z
LAST-MODIFIED:20250815T164941Z
UID:10000043-1760000400-1760025600@nesupported.org
SUMMARY:Nebraska Adult Education Conference
DESCRIPTION:Nebraska Adult Education and GED® – Nebraska Department of Education
URL:https://nesupported.org/event/nebraska-adult-education-conference/
CATEGORIES:NDE
END:VEVENT
BEGIN:VEVENT
DTSTART;TZID=America/Chicago:20251008T083000
DTEND;TZID=America/Chicago:20251008T120000
DTSTAMP:20260425T192616
CREATED:20251001T195131Z
LAST-MODIFIED:20251001T195131Z
UID:10000081-1759912200-1759924800@nesupported.org
SUMMARY:Assessment Roadshow
DESCRIPTION:This event will cover Nebraska statewide assessment and accountability for 2025-2026.
URL:https://nesupported.org/event/assessment-roadshow-2/
LOCATION:The Archway\, 3060 E 1st St\, Kearney\, Nebraska\, 68847
CATEGORIES:NDE
END:VEVENT
BEGIN:VEVENT
DTSTART;TZID=America/Chicago:20251008T080000
DTEND;TZID=America/Chicago:20251010T170000
DTSTAMP:20260425T192616
CREATED:20250815T164518Z
LAST-MODIFIED:20250815T164518Z
UID:10000042-1759910400-1760115600@nesupported.org
SUMMARY:2025 NeMTSS Summit
DESCRIPTION:
URL:https://nesupported.org/event/2025-nemtss-summit/
LOCATION:Younes North Conference Center in Kearney\, NE\, Kearney\, NE
CATEGORIES:NDE
END:VEVENT
BEGIN:VEVENT
DTSTART;TZID=America/Chicago:20251007T130000
DTEND;TZID=America/Chicago:20251007T140000
DTSTAMP:20260425T192616
CREATED:20250815T163955Z
LAST-MODIFIED:20250815T163956Z
UID:10000041-1759842000-1759845600@nesupported.org
SUMMARY:2025 SRC Disability Employment and Inclusion Awards
DESCRIPTION:
URL:https://nesupported.org/event/2025-src-disability-employment-and-inclusion-awards/
CATEGORIES:NDE
END:VEVENT
BEGIN:VEVENT
DTSTART;TZID=America/Denver:20251007T083000
DTEND;TZID=America/Denver:20251007T120000
DTSTAMP:20260425T192616
CREATED:20251001T194825Z
LAST-MODIFIED:20251001T195624Z
UID:10000080-1759825800-1759838400@nesupported.org
SUMMARY:Assessment Roadshow
DESCRIPTION:This event will cover Nebraska statewide assessment and accountability for 2025-2026.
URL:https://nesupported.org/event/assessment-roadshow/
LOCATION:ESU 13 Scottsbluff\, Nebraska\, 4215 Avenue I\, Scottsbluff\, Nebraska\, 69361
CATEGORIES:NDE
END:VEVENT
BEGIN:VEVENT
DTSTART;TZID=America/Chicago:20250926T070000
DTEND;TZID=America/Chicago:20250926T170000
DTSTAMP:20260425T192616
CREATED:20250815T163320Z
LAST-MODIFIED:20250926T174234Z
UID:10000040-1758870000-1758906000@nesupported.org
SUMMARY:GetConnected Nebraska Afterschool Conference
DESCRIPTION:
URL:https://nesupported.org/event/getconnected-nebraska-afterschool-conference/
LOCATION:Kearney\, NE
CATEGORIES:NDE
END:VEVENT
BEGIN:VEVENT
DTSTART;TZID=America/Chicago:20250914T090000
DTEND;TZID=America/Chicago:20250914T150000
DTSTAMP:20260425T192616
CREATED:20250805T211706Z
LAST-MODIFIED:20250813T195246Z
UID:10000036-1757840400-1757862000@nesupported.org
SUMMARY:Science Education PL Day
DESCRIPTION:The Iowa and Nebraska Departments of Education would like to invite you to attend a Science Education Professional Learning Event this fall. This event offers real classroom experiences for teachers to experience three-dimensional learning through sensemaking of local phenomena.  \n Theme: Learning in Context: Connecting Classrooms to Local Places and Lived Experiences.  \nCost: Free \nLunch: Provided free of charge by the Izaak Walton League and the Department of Natural Resources from Iowa and Nebraska. \nRegister with the website link.
URL:https://nesupported.org/event/science-education-pl-day/
LOCATION:Omaha Henry Doorly Zoo & Aquarium\, 3701 S 10th St\, Omaha\, NE\, United States
CATEGORIES:NDE
END:VEVENT
BEGIN:VEVENT
DTSTART;TZID=America/Chicago:20250908T080000
DTEND;TZID=America/Chicago:20250908T130000
DTSTAMP:20260425T192616
CREATED:20250815T162912Z
LAST-MODIFIED:20250815T163408Z
UID:10000039-1757318400-1757336400@nesupported.org
SUMMARY:EdRising Chapter Officer Leadership Academy (COLA)
DESCRIPTION:
URL:https://nesupported.org/event/edrising-chapter-officer-leadership-academy-cola/
LOCATION:Virtual
CATEGORIES:NDE
END:VEVENT
BEGIN:VEVENT
DTSTART;TZID=America/Chicago:20250828T133000
DTEND;TZID=America/Chicago:20250828T133000
DTSTAMP:20260425T192616
CREATED:20250805T212432Z
LAST-MODIFIED:20250805T212432Z
UID:10000037-1756387800-1756387800@nesupported.org
SUMMARY:Rule 3 Informational Webinar
DESCRIPTION:The NDE will be hosting an informational webinar designed to help understand proposed revisions to Rule 3: Regulations Governing Learners with High Ability. This session will provide an overview of key changes\, clarify district responsibilities\, and offer guidance on implementation\, reporting\, and compliance. Attendees will have the opportunity to ask questions and access resources to support successful application of Rule 3 in their local context. Please join us and share with districts in your region. \nRegistration \n 
URL:https://nesupported.org/event/rule-3-informational-webinar/
LOCATION:Virtual
CATEGORIES:NDE
END:VEVENT
BEGIN:VEVENT
DTSTART;TZID=America/Chicago:20250723T080000
DTEND;TZID=America/Chicago:20250723T170000
DTSTAMP:20260425T192616
CREATED:20250722T161224Z
LAST-MODIFIED:20250722T161239Z
UID:10000035-1753257600-1753290000@nesupported.org
SUMMARY:NDE Day 2025
DESCRIPTION:We invite you to the NDE Day Conference: Literacy for Success\,Wednesday\, July 23\, 2025\, from 8:30 am – 3:45 pm at the Younes North Conference Center in Kearney\, NE.  to learn about the key shifts\, components\, and core actions for the 2025 school year and beyond.
URL:https://nesupported.org/event/nde-day-2025/
LOCATION:Younes North Conference Center in Kearney\, NE\, Kearney\, NE
CATEGORIES:NDE
END:VEVENT
END:VCALENDAR