BEGIN:VCALENDAR
VERSION:2.0
PRODID:-//Nebraska Support Ed - ECPv6.15.20//NONSGML v1.0//EN
CALSCALE:GREGORIAN
METHOD:PUBLISH
X-ORIGINAL-URL:https://nesupported.org
X-WR-CALDESC:Events for Nebraska Support Ed
REFRESH-INTERVAL;VALUE=DURATION:PT1H
X-Robots-Tag:noindex
X-PUBLISHED-TTL:PT1H
BEGIN:VTIMEZONE
TZID:America/Chicago
BEGIN:DAYLIGHT
TZOFFSETFROM:-0600
TZOFFSETTO:-0500
TZNAME:CDT
DTSTART:20250309T080000
END:DAYLIGHT
BEGIN:STANDARD
TZOFFSETFROM:-0500
TZOFFSETTO:-0600
TZNAME:CST
DTSTART:20251102T070000
END:STANDARD
BEGIN:DAYLIGHT
TZOFFSETFROM:-0600
TZOFFSETTO:-0500
TZNAME:CDT
DTSTART:20260308T080000
END:DAYLIGHT
BEGIN:STANDARD
TZOFFSETFROM:-0500
TZOFFSETTO:-0600
TZNAME:CST
DTSTART:20261101T070000
END:STANDARD
BEGIN:DAYLIGHT
TZOFFSETFROM:-0600
TZOFFSETTO:-0500
TZNAME:CDT
DTSTART:20270314T080000
END:DAYLIGHT
BEGIN:STANDARD
TZOFFSETFROM:-0500
TZOFFSETTO:-0600
TZNAME:CST
DTSTART:20271107T070000
END:STANDARD
END:VTIMEZONE
BEGIN:VEVENT
DTSTART;TZID=America/Chicago:20260115T153000
DTEND;TZID=America/Chicago:20260115T164500
DTSTAMP:20260419T102846
CREATED:20251219T212059Z
LAST-MODIFIED:20260114T172014Z
UID:10000100-1768491000-1768495500@nesupported.org
SUMMARY:ESUCC Information Services Committee Meeting
DESCRIPTION:Added by Mindy Reed 5.19.2025
URL:https://nesupported.org/event/esucc-information-services-committee-meeting/
LOCATION:ESU 10\, 78 Plaza Blvd\, Kearney\, NE\, United States
CATEGORIES:ESUCC
GEO:40.696198;-99.117443
X-APPLE-STRUCTURED-LOCATION;VALUE=URI;X-ADDRESS=ESU 10 78 Plaza Blvd Kearney NE United States;X-APPLE-RADIUS=500;X-TITLE=78 Plaza Blvd:geo:-99.117443,40.696198
END:VEVENT
BEGIN:VEVENT
DTSTART;TZID=America/Chicago:20260116T080000
DTEND;TZID=America/Chicago:20260116T120000
DTSTAMP:20260419T102846
CREATED:20251219T212059Z
LAST-MODIFIED:20260114T172015Z
UID:10000101-1768550400-1768564800@nesupported.org
SUMMARY:ESUCC Regular Board Meeting
DESCRIPTION:Added by Mindy Reed 5.19.2025
URL:https://nesupported.org/event/esucc-regular-board-meeting/
LOCATION:ESU 10\, 78 Plaza Blvd\, Kearney\, NE\, United States
CATEGORIES:ESUCC
GEO:40.696198;-99.117443
X-APPLE-STRUCTURED-LOCATION;VALUE=URI;X-ADDRESS=ESU 10 78 Plaza Blvd Kearney NE United States;X-APPLE-RADIUS=500;X-TITLE=78 Plaza Blvd:geo:-99.117443,40.696198
END:VEVENT
BEGIN:VEVENT
DTSTART;TZID=America/Chicago:20260116T120000
DTEND;TZID=America/Chicago:20260116T160000
DTSTAMP:20260419T102846
CREATED:20251117T150948Z
LAST-MODIFIED:20260114T172014Z
UID:10000083-1768564800-1768579200@nesupported.org
SUMMARY:ESUCC/NDE Rule 84 Meeting
DESCRIPTION:Added by Mindy Reed 5.19.2025
URL:https://nesupported.org/event/esucc-nde-rule-84-meeting/
LOCATION:ESU 10\, 78 Plaza Blvd\, Kearney\, NE\, United States
CATEGORIES:ESUCC
GEO:40.696198;-99.117443
X-APPLE-STRUCTURED-LOCATION;VALUE=URI;X-ADDRESS=ESU 10 78 Plaza Blvd Kearney NE United States;X-APPLE-RADIUS=500;X-TITLE=78 Plaza Blvd:geo:-99.117443,40.696198
END:VEVENT
BEGIN:VEVENT
DTSTART;TZID=America/Chicago:20260122T151500
DTEND;TZID=America/Chicago:20260122T161500
DTSTAMP:20260419T102846
CREATED:20250714T191028Z
LAST-MODIFIED:20250714T191028Z
UID:10000017-1769094900-1769098500@nesupported.org
SUMMARY:TLT Leadership 2025-2026
DESCRIPTION:Added by Mindy Reed 2.17.2025
URL:https://nesupported.org/event/tlt-leadership-2025-2026-4/
LOCATION:https://zoom.us/j/282-0896822
CATEGORIES:ESUCC
END:VEVENT
BEGIN:VEVENT
DTSTART;TZID=America/Chicago:20260126T110000
DTEND;TZID=America/Chicago:20260126T120000
DTSTAMP:20260419T102846
CREATED:20250714T191029Z
LAST-MODIFIED:20250714T191029Z
UID:10000018-1769425200-1769428800@nesupported.org
SUMMARY:TLT/Distance Learning Coordinators 2025-2026
DESCRIPTION:Added by Mindy Reed 2.17.2025
URL:https://nesupported.org/event/tlt-distance-learning-coordinators-2025-2026-4/
LOCATION:https://zoom.us/my/eastonzoom
CATEGORIES:ESUCC
END:VEVENT
BEGIN:VEVENT
DTSTART;TZID=America/Chicago:20260131T083000
DTEND;TZID=America/Chicago:20260131T160000
DTSTAMP:20260419T102846
CREATED:20251216T152020Z
LAST-MODIFIED:20260130T223138Z
UID:10000084-1769848200-1769875200@nesupported.org
SUMMARY:NCSA - Emerging Administrators Program
DESCRIPTION:Each year\, NCSA offers the Emerging Administrator Program for individuals interested in becoming school administrators. This program includes presentations from Nebraska administrative experts and education partners\, program materials\, and—if desired—a résumé review or mock interview. It’s an exceptional value\, and if you’re considering stepping into an educational leadership role\, you won’t want to miss this workshop!
URL:https://nesupported.org/event/ncsa-emerging-administrators-program/
CATEGORIES:ESUCC,Statewide Education Associations
END:VEVENT
BEGIN:VEVENT
DTSTART;TZID=America/Chicago:20260211T090000
DTEND;TZID=America/Chicago:20260211T153000
DTSTAMP:20260419T102846
CREATED:20250714T191029Z
LAST-MODIFIED:20250714T191029Z
UID:10000019-1770800400-1770823800@nesupported.org
SUMMARY:TLT Training
DESCRIPTION:Added by Mindy Reed 2.18.2025
URL:https://nesupported.org/event/tlt-training/
LOCATION:TBA
CATEGORIES:ESUCC
END:VEVENT
BEGIN:VEVENT
DTSTART;TZID=America/Chicago:20260212T090000
DTEND;TZID=America/Chicago:20260212T153000
DTSTAMP:20260419T102846
CREATED:20250714T191029Z
LAST-MODIFIED:20250714T191029Z
UID:10000020-1770886800-1770910200@nesupported.org
SUMMARY:TLT Training
DESCRIPTION:Added by Mindy Reed 2.18.2025
URL:https://nesupported.org/event/tlt-training-2/
LOCATION:TBA
CATEGORIES:ESUCC
END:VEVENT
BEGIN:VEVENT
DTSTART;TZID=America/Chicago:20260212T110000
DTEND;TZID=America/Chicago:20260212T121500
DTSTAMP:20260419T102846
CREATED:20251219T212059Z
LAST-MODIFIED:20260210T005718Z
UID:10000103-1770894000-1770898500@nesupported.org
SUMMARY:ESUCC Executive Committee Meeting
DESCRIPTION:Added by Mindy Reed 5.19.2025
URL:https://nesupported.org/event/esucc-executive-committee-meeting-2/
LOCATION:TBD
CATEGORIES:ESUCC
END:VEVENT
BEGIN:VEVENT
DTSTART;TZID=America/Chicago:20260212T123000
DTEND;TZID=America/Chicago:20260212T134500
DTSTAMP:20260419T102846
CREATED:20251219T212059Z
LAST-MODIFIED:20260210T005718Z
UID:10000104-1770899400-1770903900@nesupported.org
SUMMARY:ESUCC Educational Resources Committee Meeting
DESCRIPTION:Added by Mindy Reed 5.19.2025
URL:https://nesupported.org/event/esucc-educational-resources-committee-meeting-2/
LOCATION:TBD
CATEGORIES:ESUCC
END:VEVENT
BEGIN:VEVENT
DTSTART;TZID=America/Chicago:20260212T140000
DTEND;TZID=America/Chicago:20260212T151500
DTSTAMP:20260419T102846
CREATED:20251219T212100Z
LAST-MODIFIED:20260210T005718Z
UID:10000105-1770904800-1770909300@nesupported.org
SUMMARY:ESUCC Legal Committee Meeting
DESCRIPTION:Added by Mindy Reed 5.19.2025
URL:https://nesupported.org/event/esucc-legal-committee-meeting-2/
LOCATION:TBD
CATEGORIES:ESUCC
END:VEVENT
BEGIN:VEVENT
DTSTART;TZID=America/Chicago:20260212T153000
DTEND;TZID=America/Chicago:20260212T164500
DTSTAMP:20260419T102846
CREATED:20251219T212059Z
LAST-MODIFIED:20260210T005718Z
UID:10000102-1770910200-1770914700@nesupported.org
SUMMARY:ESUCC Information Services Committee Meeting
DESCRIPTION:Added by Mindy Reed 5.19.2025
URL:https://nesupported.org/event/esucc-information-services-committee-meeting-2/
LOCATION:TBD
CATEGORIES:ESUCC
END:VEVENT
BEGIN:VEVENT
DTSTART;TZID=America/Chicago:20260213T080000
DTEND;TZID=America/Chicago:20260213T120000
DTSTAMP:20260419T102846
CREATED:20251219T212100Z
LAST-MODIFIED:20260210T005718Z
UID:10000106-1770969600-1770984000@nesupported.org
SUMMARY:ESUCC Regular Board Meeting
DESCRIPTION:Added by Mindy Reed 5.19.2025
URL:https://nesupported.org/event/esucc-regular-board-meeting-2/
LOCATION:TBD
CATEGORIES:ESUCC
END:VEVENT
BEGIN:VEVENT
DTSTART;TZID=America/Chicago:20260223T110000
DTEND;TZID=America/Chicago:20260223T120000
DTSTAMP:20260419T102846
CREATED:20250714T191029Z
LAST-MODIFIED:20250714T191029Z
UID:10000021-1771844400-1771848000@nesupported.org
SUMMARY:TLT/Distance Learning Coordinators 2025-2026
DESCRIPTION:Added by Mindy Reed 2.17.2025
URL:https://nesupported.org/event/tlt-distance-learning-coordinators-2025-2026-5/
LOCATION:https://zoom.us/my/eastonzoom
CATEGORIES:ESUCC
END:VEVENT
BEGIN:VEVENT
DTSTART;TZID=America/Chicago:20260226T151500
DTEND;TZID=America/Chicago:20260226T161500
DTSTAMP:20260419T102846
CREATED:20250714T191029Z
LAST-MODIFIED:20250714T191029Z
UID:10000022-1772118900-1772122500@nesupported.org
SUMMARY:TLT Leadership 2025-2026
DESCRIPTION:Added by Mindy Reed 2.17.2025
URL:https://nesupported.org/event/tlt-leadership-2025-2026-5/
LOCATION:https://zoom.us/j/282-0896822
CATEGORIES:ESUCC
END:VEVENT
BEGIN:VEVENT
DTSTART;TZID=America/Chicago:20260311T150000
DTEND;TZID=America/Chicago:20260311T163000
DTSTAMP:20260419T102846
CREATED:20251216T152020Z
LAST-MODIFIED:20260306T093419Z
UID:10000085-1773241200-1773246600@nesupported.org
SUMMARY:Government Relations Information Teams(GRIT) Meeting
DESCRIPTION:The Government Relations Information Teams (GRIT) Conference remains one of NCSA’s long-standing events to provide school administrators with up-to-date and relevant information on pending education-related issues before the Nebraska Legislature.
URL:https://nesupported.org/event/government-relations-information-teamsgrit-meeting/
CATEGORIES:ESUCC,Statewide Education Associations
END:VEVENT
BEGIN:VEVENT
DTSTART;TZID=America/Chicago:20260312T083000
DTEND;TZID=America/Chicago:20260312T123000
DTSTAMP:20260419T102846
CREATED:20250714T191030Z
LAST-MODIFIED:20250714T191030Z
UID:10000023-1773304200-1773318600@nesupported.org
SUMMARY:TLT Meeting
DESCRIPTION:Added by Mindy Reed 2.17.2025
URL:https://nesupported.org/event/tlt-meeting-3/
LOCATION:https://zoom.us/j/282-0896822
CATEGORIES:ESUCC
END:VEVENT
BEGIN:VEVENT
DTSTART;TZID=America/Chicago:20260313T073000
DTEND;TZID=America/Chicago:20260313T160000
DTSTAMP:20260419T102846
CREATED:20251219T212100Z
LAST-MODIFIED:20260311T075019Z
UID:10000107-1773387000-1773417600@nesupported.org
SUMMARY:ESUCC Floating Holiday
DESCRIPTION:Added by Mindy Reed 5.19.2025
URL:https://nesupported.org/event/esucc-floating-holiday/
CATEGORIES:ESUCC
END:VEVENT
BEGIN:VEVENT
DTSTART;TZID=America/Chicago:20260317T110000
DTEND;TZID=America/Chicago:20260317T121500
DTSTAMP:20260419T102846
CREATED:20251219T212100Z
LAST-MODIFIED:20260316T092224Z
UID:10000108-1773745200-1773749700@nesupported.org
SUMMARY:ESUCC Executive Committee Meeting
DESCRIPTION:Added by Mindy Reed 5.19.2025
URL:https://nesupported.org/event/esucc-executive-committee-meeting-3/
LOCATION:ESU 10\, 78 Plaza Blvd\, Kearney\, NE\, United States
CATEGORIES:ESUCC
GEO:40.696198;-99.117443
X-APPLE-STRUCTURED-LOCATION;VALUE=URI;X-ADDRESS=ESU 10 78 Plaza Blvd Kearney NE United States;X-APPLE-RADIUS=500;X-TITLE=78 Plaza Blvd:geo:-99.117443,40.696198
END:VEVENT
BEGIN:VEVENT
DTSTART;TZID=America/Chicago:20260317T123000
DTEND;TZID=America/Chicago:20260317T134500
DTSTAMP:20260419T102846
CREATED:20251219T212100Z
LAST-MODIFIED:20260316T092224Z
UID:10000109-1773750600-1773755100@nesupported.org
SUMMARY:ESUCC Educational Resources Committee Meeting
DESCRIPTION:Added by Mindy Reed 5.19.2025
URL:https://nesupported.org/event/esucc-educational-resources-committee-meeting-3/
LOCATION:ESU 10\, 78 Plaza Blvd\, Kearney\, NE\, United States
CATEGORIES:ESUCC
GEO:40.696198;-99.117443
X-APPLE-STRUCTURED-LOCATION;VALUE=URI;X-ADDRESS=ESU 10 78 Plaza Blvd Kearney NE United States;X-APPLE-RADIUS=500;X-TITLE=78 Plaza Blvd:geo:-99.117443,40.696198
END:VEVENT
BEGIN:VEVENT
DTSTART;TZID=America/Chicago:20260317T140000
DTEND;TZID=America/Chicago:20260317T151500
DTSTAMP:20260419T102846
CREATED:20251219T212100Z
LAST-MODIFIED:20260316T092224Z
UID:10000110-1773756000-1773760500@nesupported.org
SUMMARY:ESUCC Legal Committee Meeting
DESCRIPTION:Added by Mindy Reed 5.19.2025
URL:https://nesupported.org/event/esucc-legal-committee-meeting-3/
LOCATION:ESU 10\, 78 Plaza Blvd\, Kearney\, NE\, United States
CATEGORIES:ESUCC
GEO:40.696198;-99.117443
X-APPLE-STRUCTURED-LOCATION;VALUE=URI;X-ADDRESS=ESU 10 78 Plaza Blvd Kearney NE United States;X-APPLE-RADIUS=500;X-TITLE=78 Plaza Blvd:geo:-99.117443,40.696198
END:VEVENT
BEGIN:VEVENT
DTSTART;TZID=America/Chicago:20260317T153000
DTEND;TZID=America/Chicago:20260317T164500
DTSTAMP:20260419T102846
CREATED:20251219T212101Z
LAST-MODIFIED:20260316T092224Z
UID:10000111-1773761400-1773765900@nesupported.org
SUMMARY:ESUCC Information Services Committee Meeting
DESCRIPTION:Added by Mindy Reed 5.19.2025
URL:https://nesupported.org/event/esucc-information-services-committee-meeting-3/
LOCATION:ESU 10\, 78 Plaza Blvd\, Kearney\, NE\, United States
CATEGORIES:ESUCC
GEO:40.696198;-99.117443
X-APPLE-STRUCTURED-LOCATION;VALUE=URI;X-ADDRESS=ESU 10 78 Plaza Blvd Kearney NE United States;X-APPLE-RADIUS=500;X-TITLE=78 Plaza Blvd:geo:-99.117443,40.696198
END:VEVENT
BEGIN:VEVENT
DTSTART;TZID=America/Chicago:20260318T080000
DTEND;TZID=America/Chicago:20260318T120000
DTSTAMP:20260419T102846
CREATED:20251219T212101Z
LAST-MODIFIED:20260316T092224Z
UID:10000112-1773820800-1773835200@nesupported.org
SUMMARY:ESUCC Regular Board Meeting
DESCRIPTION:Added by Mindy Reed 5.19.2025
URL:https://nesupported.org/event/esucc-regular-board-meeting-3/
LOCATION:ESU 10\, 78 Plaza Blvd\, Kearney\, NE\, United States
CATEGORIES:ESUCC
GEO:40.696198;-99.117443
X-APPLE-STRUCTURED-LOCATION;VALUE=URI;X-ADDRESS=ESU 10 78 Plaza Blvd Kearney NE United States;X-APPLE-RADIUS=500;X-TITLE=78 Plaza Blvd:geo:-99.117443,40.696198
END:VEVENT
BEGIN:VEVENT
DTSTART;TZID=America/Chicago:20260326T151500
DTEND;TZID=America/Chicago:20260326T161500
DTSTAMP:20260419T102846
CREATED:20250714T191030Z
LAST-MODIFIED:20250714T191030Z
UID:10000024-1774538100-1774541700@nesupported.org
SUMMARY:TLT Leadership 2025-2026
DESCRIPTION:Added by Mindy Reed 2.17.2025
URL:https://nesupported.org/event/tlt-leadership-2025-2026-6/
LOCATION:https://zoom.us/j/282-0896822
CATEGORIES:ESUCC
END:VEVENT
BEGIN:VEVENT
DTSTART;TZID=America/Chicago:20260330T110000
DTEND;TZID=America/Chicago:20260330T120000
DTSTAMP:20260419T102846
CREATED:20250714T191030Z
LAST-MODIFIED:20250714T191030Z
UID:10000025-1774868400-1774872000@nesupported.org
SUMMARY:TLT/Distance Learning Coordinators 2025-2026
DESCRIPTION:Added by Mindy Reed 2.17.2025
URL:https://nesupported.org/event/tlt-distance-learning-coordinators-2025-2026-6/
LOCATION:https://zoom.us/my/eastonzoom
CATEGORIES:ESUCC
END:VEVENT
BEGIN:VEVENT
DTSTART;TZID=America/Chicago:20260403T073000
DTEND;TZID=America/Chicago:20260403T160000
DTSTAMP:20260419T102846
CREATED:20251219T212101Z
LAST-MODIFIED:20260324T105837Z
UID:10000113-1775201400-1775232000@nesupported.org
SUMMARY:ESUCC Closed
DESCRIPTION:Added by Mindy Reed 5.19.2025
URL:https://nesupported.org/event/esucc-closed-11/
CATEGORIES:ESUCC
END:VEVENT
BEGIN:VEVENT
DTSTART;TZID=America/Chicago:20260406T073000
DTEND;TZID=America/Chicago:20260406T160000
DTSTAMP:20260419T102846
CREATED:20251219T212101Z
LAST-MODIFIED:20260324T105837Z
UID:10000114-1775460600-1775491200@nesupported.org
SUMMARY:ESUCC Closed
DESCRIPTION:Added by Mindy Reed 5.19.2025
URL:https://nesupported.org/event/esucc-closed-12/
CATEGORIES:ESUCC
END:VEVENT
BEGIN:VEVENT
DTSTART;TZID=America/Chicago:20260409T081500
DTEND;TZID=America/Chicago:20260409T153000
DTSTAMP:20260419T102846
CREATED:20250916T132745Z
LAST-MODIFIED:20260409T150237Z
UID:10000070-1775722500-1775748600@nesupported.org
SUMMARY:Learning Forward Nebraska Conference
DESCRIPTION:ESU 3 is proud to host the annual Learning Forward Nebraska Conference at Educational Service Unit 3 located at 6949 S. 110th Street in La Vista\, NE.  \nJoin Jim Knight as he equips literacy leaders with practical coaching strategies and professional learning tools to drive meaningful impact in every classroom. \nSpace is limited\, so please register early!  \nhttps://iris.esu3.org/workshops/SectionDetails.aspx?SectionID=4620
URL:https://nesupported.org/event/leaning-forward-nebraska-conference/
LOCATION:Educational Service Unit #3\, 6949 S 110th St\, La Vista\, NE\, United States
CATEGORIES:ESUCC,Statewide Education Associations
GEO:41.190216;-96.08829
X-APPLE-STRUCTURED-LOCATION;VALUE=URI;X-ADDRESS=Educational Service Unit #3 6949 S 110th St La Vista NE United States;X-APPLE-RADIUS=500;X-TITLE=6949 S 110th St:geo:-96.08829,41.190216
END:VEVENT
BEGIN:VEVENT
DTSTART;TZID=America/Chicago:20260416T110000
DTEND;TZID=America/Chicago:20260416T121500
DTSTAMP:20260419T102846
CREATED:20251219T212101Z
LAST-MODIFIED:20260324T105837Z
UID:10000115-1776337200-1776341700@nesupported.org
SUMMARY:ESUCC Executive Committee Meeting
DESCRIPTION:Added by Mindy Reed 5.19.2025
URL:https://nesupported.org/event/esucc-executive-committee-meeting-4/
LOCATION:Educational Service Unit #3\, 6949 S 110th St\, La Vista\, NE\, United States
CATEGORIES:ESUCC
GEO:41.190216;-96.08829
X-APPLE-STRUCTURED-LOCATION;VALUE=URI;X-ADDRESS=Educational Service Unit #3 6949 S 110th St La Vista NE United States;X-APPLE-RADIUS=500;X-TITLE=6949 S 110th St:geo:-96.08829,41.190216
END:VEVENT
BEGIN:VEVENT
DTSTART;TZID=America/Chicago:20260416T123000
DTEND;TZID=America/Chicago:20260416T134500
DTSTAMP:20260419T102846
CREATED:20251219T212101Z
LAST-MODIFIED:20260324T105837Z
UID:10000116-1776342600-1776347100@nesupported.org
SUMMARY:ESUCC Educational Resources Committee Meeting
DESCRIPTION:Added by Mindy Reed 5.19.2025
URL:https://nesupported.org/event/esucc-educational-resources-committee-meeting-4/
LOCATION:Educational Service Unit #3\, 6949 S 110th St\, La Vista\, NE\, United States
CATEGORIES:ESUCC
GEO:41.190216;-96.08829
X-APPLE-STRUCTURED-LOCATION;VALUE=URI;X-ADDRESS=Educational Service Unit #3 6949 S 110th St La Vista NE United States;X-APPLE-RADIUS=500;X-TITLE=6949 S 110th St:geo:-96.08829,41.190216
END:VEVENT
END:VCALENDAR