BEGIN:VCALENDAR
VERSION:2.0
PRODID:-//Nebraska Support Ed - ECPv6.15.20//NONSGML v1.0//EN
CALSCALE:GREGORIAN
METHOD:PUBLISH
X-WR-CALNAME:Nebraska Support Ed
X-ORIGINAL-URL:https://nesupported.org
X-WR-CALDESC:Events for Nebraska Support Ed
REFRESH-INTERVAL;VALUE=DURATION:PT1H
X-Robots-Tag:noindex
X-PUBLISHED-TTL:PT1H
BEGIN:VTIMEZONE
TZID:America/Chicago
BEGIN:DAYLIGHT
TZOFFSETFROM:-0600
TZOFFSETTO:-0500
TZNAME:CDT
DTSTART:20250309T080000
END:DAYLIGHT
BEGIN:STANDARD
TZOFFSETFROM:-0500
TZOFFSETTO:-0600
TZNAME:CST
DTSTART:20251102T070000
END:STANDARD
BEGIN:DAYLIGHT
TZOFFSETFROM:-0600
TZOFFSETTO:-0500
TZNAME:CDT
DTSTART:20260308T080000
END:DAYLIGHT
BEGIN:STANDARD
TZOFFSETFROM:-0500
TZOFFSETTO:-0600
TZNAME:CST
DTSTART:20261101T070000
END:STANDARD
BEGIN:DAYLIGHT
TZOFFSETFROM:-0600
TZOFFSETTO:-0500
TZNAME:CDT
DTSTART:20270314T080000
END:DAYLIGHT
BEGIN:STANDARD
TZOFFSETFROM:-0500
TZOFFSETTO:-0600
TZNAME:CST
DTSTART:20271107T070000
END:STANDARD
END:VTIMEZONE
BEGIN:VEVENT
DTSTART;TZID=America/Chicago:20260317T110000
DTEND;TZID=America/Chicago:20260317T121500
DTSTAMP:20260419T121827
CREATED:20251219T212100Z
LAST-MODIFIED:20260316T092224Z
UID:10000108-1773745200-1773749700@nesupported.org
SUMMARY:ESUCC Executive Committee Meeting
DESCRIPTION:Added by Mindy Reed 5.19.2025
URL:https://nesupported.org/event/esucc-executive-committee-meeting-3/
LOCATION:ESU 10\, 78 Plaza Blvd\, Kearney\, NE\, United States
CATEGORIES:ESUCC
GEO:40.696198;-99.117443
X-APPLE-STRUCTURED-LOCATION;VALUE=URI;X-ADDRESS=ESU 10 78 Plaza Blvd Kearney NE United States;X-APPLE-RADIUS=500;X-TITLE=78 Plaza Blvd:geo:-99.117443,40.696198
END:VEVENT
BEGIN:VEVENT
DTSTART;TZID=America/Chicago:20260317T123000
DTEND;TZID=America/Chicago:20260317T134500
DTSTAMP:20260419T121827
CREATED:20251219T212100Z
LAST-MODIFIED:20260316T092224Z
UID:10000109-1773750600-1773755100@nesupported.org
SUMMARY:ESUCC Educational Resources Committee Meeting
DESCRIPTION:Added by Mindy Reed 5.19.2025
URL:https://nesupported.org/event/esucc-educational-resources-committee-meeting-3/
LOCATION:ESU 10\, 78 Plaza Blvd\, Kearney\, NE\, United States
CATEGORIES:ESUCC
GEO:40.696198;-99.117443
X-APPLE-STRUCTURED-LOCATION;VALUE=URI;X-ADDRESS=ESU 10 78 Plaza Blvd Kearney NE United States;X-APPLE-RADIUS=500;X-TITLE=78 Plaza Blvd:geo:-99.117443,40.696198
END:VEVENT
BEGIN:VEVENT
DTSTART;TZID=America/Chicago:20260317T140000
DTEND;TZID=America/Chicago:20260317T151500
DTSTAMP:20260419T121827
CREATED:20251219T212100Z
LAST-MODIFIED:20260316T092224Z
UID:10000110-1773756000-1773760500@nesupported.org
SUMMARY:ESUCC Legal Committee Meeting
DESCRIPTION:Added by Mindy Reed 5.19.2025
URL:https://nesupported.org/event/esucc-legal-committee-meeting-3/
LOCATION:ESU 10\, 78 Plaza Blvd\, Kearney\, NE\, United States
CATEGORIES:ESUCC
GEO:40.696198;-99.117443
X-APPLE-STRUCTURED-LOCATION;VALUE=URI;X-ADDRESS=ESU 10 78 Plaza Blvd Kearney NE United States;X-APPLE-RADIUS=500;X-TITLE=78 Plaza Blvd:geo:-99.117443,40.696198
END:VEVENT
BEGIN:VEVENT
DTSTART;TZID=America/Chicago:20260317T153000
DTEND;TZID=America/Chicago:20260317T164500
DTSTAMP:20260419T121827
CREATED:20251219T212101Z
LAST-MODIFIED:20260316T092224Z
UID:10000111-1773761400-1773765900@nesupported.org
SUMMARY:ESUCC Information Services Committee Meeting
DESCRIPTION:Added by Mindy Reed 5.19.2025
URL:https://nesupported.org/event/esucc-information-services-committee-meeting-3/
LOCATION:ESU 10\, 78 Plaza Blvd\, Kearney\, NE\, United States
CATEGORIES:ESUCC
GEO:40.696198;-99.117443
X-APPLE-STRUCTURED-LOCATION;VALUE=URI;X-ADDRESS=ESU 10 78 Plaza Blvd Kearney NE United States;X-APPLE-RADIUS=500;X-TITLE=78 Plaza Blvd:geo:-99.117443,40.696198
END:VEVENT
BEGIN:VEVENT
DTSTART;TZID=America/Chicago:20260318T080000
DTEND;TZID=America/Chicago:20260318T120000
DTSTAMP:20260419T121827
CREATED:20251219T212101Z
LAST-MODIFIED:20260316T092224Z
UID:10000112-1773820800-1773835200@nesupported.org
SUMMARY:ESUCC Regular Board Meeting
DESCRIPTION:Added by Mindy Reed 5.19.2025
URL:https://nesupported.org/event/esucc-regular-board-meeting-3/
LOCATION:ESU 10\, 78 Plaza Blvd\, Kearney\, NE\, United States
CATEGORIES:ESUCC
GEO:40.696198;-99.117443
X-APPLE-STRUCTURED-LOCATION;VALUE=URI;X-ADDRESS=ESU 10 78 Plaza Blvd Kearney NE United States;X-APPLE-RADIUS=500;X-TITLE=78 Plaza Blvd:geo:-99.117443,40.696198
END:VEVENT
BEGIN:VEVENT
DTSTART;TZID=America/Chicago:20260326T151500
DTEND;TZID=America/Chicago:20260326T161500
DTSTAMP:20260419T121827
CREATED:20250714T191030Z
LAST-MODIFIED:20250714T191030Z
UID:10000024-1774538100-1774541700@nesupported.org
SUMMARY:TLT Leadership 2025-2026
DESCRIPTION:Added by Mindy Reed 2.17.2025
URL:https://nesupported.org/event/tlt-leadership-2025-2026-6/
LOCATION:https://zoom.us/j/282-0896822
CATEGORIES:ESUCC
END:VEVENT
BEGIN:VEVENT
DTSTART;TZID=America/Chicago:20260330T110000
DTEND;TZID=America/Chicago:20260330T120000
DTSTAMP:20260419T121827
CREATED:20250714T191030Z
LAST-MODIFIED:20250714T191030Z
UID:10000025-1774868400-1774872000@nesupported.org
SUMMARY:TLT/Distance Learning Coordinators 2025-2026
DESCRIPTION:Added by Mindy Reed 2.17.2025
URL:https://nesupported.org/event/tlt-distance-learning-coordinators-2025-2026-6/
LOCATION:https://zoom.us/my/eastonzoom
CATEGORIES:ESUCC
END:VEVENT
BEGIN:VEVENT
DTSTART;TZID=America/Chicago:20260403T073000
DTEND;TZID=America/Chicago:20260403T160000
DTSTAMP:20260419T121827
CREATED:20251219T212101Z
LAST-MODIFIED:20260324T105837Z
UID:10000113-1775201400-1775232000@nesupported.org
SUMMARY:ESUCC Closed
DESCRIPTION:Added by Mindy Reed 5.19.2025
URL:https://nesupported.org/event/esucc-closed-11/
CATEGORIES:ESUCC
END:VEVENT
BEGIN:VEVENT
DTSTART;TZID=America/Chicago:20260406T073000
DTEND;TZID=America/Chicago:20260406T160000
DTSTAMP:20260419T121827
CREATED:20251219T212101Z
LAST-MODIFIED:20260324T105837Z
UID:10000114-1775460600-1775491200@nesupported.org
SUMMARY:ESUCC Closed
DESCRIPTION:Added by Mindy Reed 5.19.2025
URL:https://nesupported.org/event/esucc-closed-12/
CATEGORIES:ESUCC
END:VEVENT
BEGIN:VEVENT
DTSTART;TZID=America/Chicago:20260409T081500
DTEND;TZID=America/Chicago:20260409T153000
DTSTAMP:20260419T121827
CREATED:20250916T132745Z
LAST-MODIFIED:20260409T150237Z
UID:10000070-1775722500-1775748600@nesupported.org
SUMMARY:Learning Forward Nebraska Conference
DESCRIPTION:ESU 3 is proud to host the annual Learning Forward Nebraska Conference at Educational Service Unit 3 located at 6949 S. 110th Street in La Vista\, NE.  \nJoin Jim Knight as he equips literacy leaders with practical coaching strategies and professional learning tools to drive meaningful impact in every classroom. \nSpace is limited\, so please register early!  \nhttps://iris.esu3.org/workshops/SectionDetails.aspx?SectionID=4620
URL:https://nesupported.org/event/leaning-forward-nebraska-conference/
LOCATION:Educational Service Unit #3\, 6949 S 110th St\, La Vista\, NE\, United States
CATEGORIES:ESUCC,Statewide Education Associations
GEO:41.190216;-96.08829
X-APPLE-STRUCTURED-LOCATION;VALUE=URI;X-ADDRESS=Educational Service Unit #3 6949 S 110th St La Vista NE United States;X-APPLE-RADIUS=500;X-TITLE=6949 S 110th St:geo:-96.08829,41.190216
END:VEVENT
BEGIN:VEVENT
DTSTART;TZID=America/Chicago:20260416T110000
DTEND;TZID=America/Chicago:20260416T121500
DTSTAMP:20260419T121827
CREATED:20251219T212101Z
LAST-MODIFIED:20260324T105837Z
UID:10000115-1776337200-1776341700@nesupported.org
SUMMARY:ESUCC Executive Committee Meeting
DESCRIPTION:Added by Mindy Reed 5.19.2025
URL:https://nesupported.org/event/esucc-executive-committee-meeting-4/
LOCATION:Educational Service Unit #3\, 6949 S 110th St\, La Vista\, NE\, United States
CATEGORIES:ESUCC
GEO:41.190216;-96.08829
X-APPLE-STRUCTURED-LOCATION;VALUE=URI;X-ADDRESS=Educational Service Unit #3 6949 S 110th St La Vista NE United States;X-APPLE-RADIUS=500;X-TITLE=6949 S 110th St:geo:-96.08829,41.190216
END:VEVENT
BEGIN:VEVENT
DTSTART;TZID=America/Chicago:20260416T123000
DTEND;TZID=America/Chicago:20260416T134500
DTSTAMP:20260419T121827
CREATED:20251219T212101Z
LAST-MODIFIED:20260324T105837Z
UID:10000116-1776342600-1776347100@nesupported.org
SUMMARY:ESUCC Educational Resources Committee Meeting
DESCRIPTION:Added by Mindy Reed 5.19.2025
URL:https://nesupported.org/event/esucc-educational-resources-committee-meeting-4/
LOCATION:Educational Service Unit #3\, 6949 S 110th St\, La Vista\, NE\, United States
CATEGORIES:ESUCC
GEO:41.190216;-96.08829
X-APPLE-STRUCTURED-LOCATION;VALUE=URI;X-ADDRESS=Educational Service Unit #3 6949 S 110th St La Vista NE United States;X-APPLE-RADIUS=500;X-TITLE=6949 S 110th St:geo:-96.08829,41.190216
END:VEVENT
BEGIN:VEVENT
DTSTART;TZID=America/Chicago:20260416T140000
DTEND;TZID=America/Chicago:20260416T151500
DTSTAMP:20260419T121827
CREATED:20251219T212102Z
LAST-MODIFIED:20260324T105837Z
UID:10000117-1776348000-1776352500@nesupported.org
SUMMARY:ESUCC Legal Committee Meeting
DESCRIPTION:Added by Mindy Reed 5.19.2025
URL:https://nesupported.org/event/esucc-legal-committee-meeting-4/
LOCATION:Educational Service Unit #3\, 6949 S 110th St\, La Vista\, NE\, United States
CATEGORIES:ESUCC
GEO:41.190216;-96.08829
X-APPLE-STRUCTURED-LOCATION;VALUE=URI;X-ADDRESS=Educational Service Unit #3 6949 S 110th St La Vista NE United States;X-APPLE-RADIUS=500;X-TITLE=6949 S 110th St:geo:-96.08829,41.190216
END:VEVENT
BEGIN:VEVENT
DTSTART;TZID=America/Chicago:20260416T153000
DTEND;TZID=America/Chicago:20260416T164500
DTSTAMP:20260419T121827
CREATED:20251219T212102Z
LAST-MODIFIED:20260324T105838Z
UID:10000118-1776353400-1776357900@nesupported.org
SUMMARY:ESUCC Information Services Committee Meeting
DESCRIPTION:Added by Mindy Reed 5.19.2025
URL:https://nesupported.org/event/esucc-information-services-committee-meeting-4/
LOCATION:Educational Service Unit #3\, 6949 S 110th St\, La Vista\, NE\, United States
CATEGORIES:ESUCC
GEO:41.190216;-96.08829
X-APPLE-STRUCTURED-LOCATION;VALUE=URI;X-ADDRESS=Educational Service Unit #3 6949 S 110th St La Vista NE United States;X-APPLE-RADIUS=500;X-TITLE=6949 S 110th St:geo:-96.08829,41.190216
END:VEVENT
BEGIN:VEVENT
DTSTART;TZID=America/Chicago:20260417T080000
DTEND;TZID=America/Chicago:20260417T120000
DTSTAMP:20260419T121827
CREATED:20251219T212102Z
LAST-MODIFIED:20260324T105838Z
UID:10000119-1776412800-1776427200@nesupported.org
SUMMARY:ESUCC Regular Board Meeting
DESCRIPTION:Added by Mindy Reed 5.19.2025
URL:https://nesupported.org/event/esucc-regular-board-meeting-4/
LOCATION:Educational Service Unit #3\, 6949 S 110th St\, La Vista\, NE\, United States
CATEGORIES:ESUCC
GEO:41.190216;-96.08829
X-APPLE-STRUCTURED-LOCATION;VALUE=URI;X-ADDRESS=Educational Service Unit #3 6949 S 110th St La Vista NE United States;X-APPLE-RADIUS=500;X-TITLE=6949 S 110th St:geo:-96.08829,41.190216
END:VEVENT
BEGIN:VEVENT
DTSTART;TZID=America/Chicago:20260423T151500
DTEND;TZID=America/Chicago:20260423T161500
DTSTAMP:20260419T121827
CREATED:20250714T191030Z
LAST-MODIFIED:20250714T191030Z
UID:10000026-1776957300-1776960900@nesupported.org
SUMMARY:TLT Leadership 2025-2026
DESCRIPTION:Added by Mindy Reed 2.17.2025
URL:https://nesupported.org/event/tlt-leadership-2025-2026-7/
LOCATION:https://zoom.us/j/282-0896822
CATEGORIES:ESUCC
END:VEVENT
BEGIN:VEVENT
DTSTART;TZID=America/Chicago:20260427T110000
DTEND;TZID=America/Chicago:20260427T120000
DTSTAMP:20260419T121827
CREATED:20250714T191031Z
LAST-MODIFIED:20250714T191031Z
UID:10000027-1777287600-1777291200@nesupported.org
SUMMARY:TLT/Distance Learning Coordinators 2025-2026
DESCRIPTION:Added by Mindy Reed 2.17.2025
URL:https://nesupported.org/event/tlt-distance-learning-coordinators-2025-2026-7/
LOCATION:https://zoom.us/my/eastonzoom
CATEGORIES:ESUCC
END:VEVENT
BEGIN:VEVENT
DTSTART;TZID=America/Chicago:20260430T083000
DTEND;TZID=America/Chicago:20260430T163000
DTSTAMP:20260419T121827
CREATED:20250916T132745Z
LAST-MODIFIED:20260419T154606Z
UID:10000073-1777537800-1777566600@nesupported.org
SUMMARY:NETA Spring Conference
DESCRIPTION:Nebraska Educational Technology Association \nFor two days\, educators come together to connect\, learn\, and grow. Attendees will enjoy an immersive and engaging atmosphere as they create their own learning journey full of breakout sessions\, exhibit hall interactions\, hands-on activities\, featured speaker talks\, networking opportunities\, and more. The NETA Spring Conference is where you’ll expand your knowledge\, refine your skills\, and connect with like-minded individuals.\nJulie Moore – executivedirector@netasite.org
URL:https://nesupported.org/event/neta-spring-conference/
LOCATION:Younes Conference Center North\, 913 W Talmadge Rd\, Kearney\, NE\, United States
CATEGORIES:ESUCC,Statewide Education Associations
GEO:40.673794;-99.094125
X-APPLE-STRUCTURED-LOCATION;VALUE=URI;X-ADDRESS=Younes Conference Center North 913 W Talmadge Rd Kearney NE United States;X-APPLE-RADIUS=500;X-TITLE=913 W Talmadge Rd:geo:-99.094125,40.673794
END:VEVENT
BEGIN:VEVENT
DTSTART;TZID=America/Chicago:20260501T083000
DTEND;TZID=America/Chicago:20260501T163000
DTSTAMP:20260419T121827
CREATED:20250916T132746Z
LAST-MODIFIED:20260419T154606Z
UID:10000074-1777624200-1777653000@nesupported.org
SUMMARY:NETA Spring Conference
DESCRIPTION:Nebraska Educational Technology Associaiton\nFor two days\, educators come together to connect\, learn\, and grow. Attendees will enjoy an immersive and engaging atmosphere as they create their own learning journey full of breakout sessions\, exhibit hall interactions\, hands-on activities\, featured speaker talks\, networking opportunities\, and more. The NETA Spring Conference is where you’ll expand your knowledge\, refine your skills\, and connect with like-minded individuals.\nJulie Moore – executivedirector@netasite.org
URL:https://nesupported.org/event/neta-spring-conference-2/
LOCATION:Younes Conference Center North\, 913 W Talmadge Rd\, Kearney\, NE\, United States
CATEGORIES:ESUCC,Statewide Education Associations
GEO:40.673794;-99.094125
X-APPLE-STRUCTURED-LOCATION;VALUE=URI;X-ADDRESS=Younes Conference Center North 913 W Talmadge Rd Kearney NE United States;X-APPLE-RADIUS=500;X-TITLE=913 W Talmadge Rd:geo:-99.094125,40.673794
END:VEVENT
BEGIN:VEVENT
DTSTART;TZID=America/Chicago:20260511T151500
DTEND;TZID=America/Chicago:20260511T161500
DTSTAMP:20260419T121827
CREATED:20250714T191031Z
LAST-MODIFIED:20250714T191031Z
UID:10000028-1778512500-1778516100@nesupported.org
SUMMARY:TLT Leadership 2025-2026
DESCRIPTION:Added by Mindy Reed 2.17.2025
URL:https://nesupported.org/event/tlt-leadership-2025-2026-8/
LOCATION:https://zoom.us/j/282-0896822
CATEGORIES:ESUCC
END:VEVENT
BEGIN:VEVENT
DTSTART;TZID=America/Chicago:20260512T110000
DTEND;TZID=America/Chicago:20260512T173000
DTSTAMP:20260419T121827
CREATED:20250714T191031Z
LAST-MODIFIED:20250714T191031Z
UID:10000029-1778583600-1778607000@nesupported.org
SUMMARY:TLT Meeting
DESCRIPTION:Added by Mindy Reed 2.17.2025
URL:https://nesupported.org/event/tlt-meeting-4/
LOCATION:ESU 10\, 78 Plaza Blvd\, Kearney\, NE\, United States
CATEGORIES:ESUCC
GEO:40.696198;-99.117443
X-APPLE-STRUCTURED-LOCATION;VALUE=URI;X-ADDRESS=ESU 10 78 Plaza Blvd Kearney NE United States;X-APPLE-RADIUS=500;X-TITLE=78 Plaza Blvd:geo:-99.117443,40.696198
END:VEVENT
BEGIN:VEVENT
DTSTART;TZID=America/Chicago:20260514T110000
DTEND;TZID=America/Chicago:20260514T121500
DTSTAMP:20260419T121827
CREATED:20251219T212102Z
LAST-MODIFIED:20260324T105838Z
UID:10000120-1778756400-1778760900@nesupported.org
SUMMARY:ESUCC Executive Committee Meeting
DESCRIPTION:Added by Mindy Reed 5.19.2025
URL:https://nesupported.org/event/esucc-executive-committee-meeting-5/
LOCATION:ESU 10\, 78 Plaza Blvd\, Kearney\, NE\, United States
CATEGORIES:ESUCC
GEO:40.696198;-99.117443
X-APPLE-STRUCTURED-LOCATION;VALUE=URI;X-ADDRESS=ESU 10 78 Plaza Blvd Kearney NE United States;X-APPLE-RADIUS=500;X-TITLE=78 Plaza Blvd:geo:-99.117443,40.696198
END:VEVENT
BEGIN:VEVENT
DTSTART;TZID=America/Chicago:20260514T123000
DTEND;TZID=America/Chicago:20260514T134500
DTSTAMP:20260419T121827
CREATED:20251219T212102Z
LAST-MODIFIED:20260324T105838Z
UID:10000121-1778761800-1778766300@nesupported.org
SUMMARY:ESUCC Educational Resources Committee Meeting
DESCRIPTION:Added by Mindy Reed 5.19.2025
URL:https://nesupported.org/event/esucc-educational-resources-committee-meeting-5/
LOCATION:ESU 10\, 78 Plaza Blvd\, Kearney\, NE\, United States
CATEGORIES:ESUCC
GEO:40.696198;-99.117443
X-APPLE-STRUCTURED-LOCATION;VALUE=URI;X-ADDRESS=ESU 10 78 Plaza Blvd Kearney NE United States;X-APPLE-RADIUS=500;X-TITLE=78 Plaza Blvd:geo:-99.117443,40.696198
END:VEVENT
BEGIN:VEVENT
DTSTART;TZID=America/Chicago:20260514T140000
DTEND;TZID=America/Chicago:20260514T151500
DTSTAMP:20260419T121827
CREATED:20251219T212102Z
LAST-MODIFIED:20260324T105838Z
UID:10000122-1778767200-1778771700@nesupported.org
SUMMARY:ESUCC Legal Committee Meeting
DESCRIPTION:Added by Mindy Reed 5.19.2025
URL:https://nesupported.org/event/esucc-legal-committee-meeting-5/
LOCATION:ESU 10\, 78 Plaza Blvd\, Kearney\, NE\, United States
CATEGORIES:ESUCC
GEO:40.696198;-99.117443
X-APPLE-STRUCTURED-LOCATION;VALUE=URI;X-ADDRESS=ESU 10 78 Plaza Blvd Kearney NE United States;X-APPLE-RADIUS=500;X-TITLE=78 Plaza Blvd:geo:-99.117443,40.696198
END:VEVENT
BEGIN:VEVENT
DTSTART;TZID=America/Chicago:20260514T153000
DTEND;TZID=America/Chicago:20260514T164500
DTSTAMP:20260419T121827
CREATED:20251219T212102Z
LAST-MODIFIED:20260324T105838Z
UID:10000123-1778772600-1778777100@nesupported.org
SUMMARY:ESUCC Information Services Committee Meeting
DESCRIPTION:Added by Mindy Reed 5.19.2025
URL:https://nesupported.org/event/esucc-information-services-committee-meeting-5/
LOCATION:ESU 10\, 78 Plaza Blvd\, Kearney\, NE\, United States
CATEGORIES:ESUCC
GEO:40.696198;-99.117443
X-APPLE-STRUCTURED-LOCATION;VALUE=URI;X-ADDRESS=ESU 10 78 Plaza Blvd Kearney NE United States;X-APPLE-RADIUS=500;X-TITLE=78 Plaza Blvd:geo:-99.117443,40.696198
END:VEVENT
BEGIN:VEVENT
DTSTART;TZID=America/Chicago:20260515T080000
DTEND;TZID=America/Chicago:20260515T120000
DTSTAMP:20260419T121827
CREATED:20251219T212103Z
LAST-MODIFIED:20260324T105838Z
UID:10000124-1778832000-1778846400@nesupported.org
SUMMARY:ESUCC Regular Board Meeting
DESCRIPTION:Added by Mindy Reed 5.19.2025
URL:https://nesupported.org/event/esucc-regular-board-meeting-5/
LOCATION:ESU 10\, 78 Plaza Blvd\, Kearney\, NE\, United States
CATEGORIES:ESUCC
GEO:40.696198;-99.117443
X-APPLE-STRUCTURED-LOCATION;VALUE=URI;X-ADDRESS=ESU 10 78 Plaza Blvd Kearney NE United States;X-APPLE-RADIUS=500;X-TITLE=78 Plaza Blvd:geo:-99.117443,40.696198
END:VEVENT
BEGIN:VEVENT
DTSTART;TZID=America/Chicago:20260525T073000
DTEND;TZID=America/Chicago:20260525T160000
DTSTAMP:20260419T121827
CREATED:20251219T212103Z
LAST-MODIFIED:20260324T105838Z
UID:10000125-1779694200-1779724800@nesupported.org
SUMMARY:ESUCC Closed
DESCRIPTION:Added by Mindy Reed 5.19.2025
URL:https://nesupported.org/event/esucc-closed-13/
CATEGORIES:ESUCC
END:VEVENT
BEGIN:VEVENT
DTSTART;TZID=America/Chicago:20260525T110000
DTEND;TZID=America/Chicago:20260525T120000
DTSTAMP:20260419T121827
CREATED:20250714T191031Z
LAST-MODIFIED:20250714T191031Z
UID:10000030-1779706800-1779710400@nesupported.org
SUMMARY:TLT/Distance Learning Coordinators 2025-2026
DESCRIPTION:Added by Mindy Reed 2.17.2025
URL:https://nesupported.org/event/tlt-distance-learning-coordinators-2025-2026-8/
LOCATION:https://zoom.us/my/eastonzoom
CATEGORIES:ESUCC
END:VEVENT
BEGIN:VEVENT
DTSTART;TZID=America/Chicago:20260601T110000
DTEND;TZID=America/Chicago:20260601T120000
DTSTAMP:20260419T121827
CREATED:20250714T191032Z
LAST-MODIFIED:20250714T191032Z
UID:10000031-1780311600-1780315200@nesupported.org
SUMMARY:TLT/Distance Learning Coordinators 2025-2026
DESCRIPTION:Added by Mindy Reed 2.17.2025
URL:https://nesupported.org/event/tlt-distance-learning-coordinators-2025-2026-9/
LOCATION:https://zoom.us/my/eastonzoom
CATEGORIES:ESUCC
END:VEVENT
BEGIN:VEVENT
DTSTART;TZID=America/Chicago:20260602T100000
DTEND;TZID=America/Chicago:20260602T170000
DTSTAMP:20260419T121827
CREATED:20251219T212103Z
LAST-MODIFIED:20260324T105838Z
UID:10000126-1780394400-1780419600@nesupported.org
SUMMARY:ESUCC Regular Board Meeting *If Needed*
DESCRIPTION:Added by Mindy Reed 5.19.2025
URL:https://nesupported.org/event/esucc-regular-board-meeting-if-needed/
LOCATION:TBD
CATEGORIES:ESUCC
END:VEVENT
END:VCALENDAR