BEGIN:VCALENDAR
VERSION:2.0
PRODID:-//Nebraska Support Ed - ECPv6.15.20//NONSGML v1.0//EN
CALSCALE:GREGORIAN
METHOD:PUBLISH
X-WR-CALNAME:Nebraska Support Ed
X-ORIGINAL-URL:https://nesupported.org
X-WR-CALDESC:Events for Nebraska Support Ed
REFRESH-INTERVAL;VALUE=DURATION:PT1H
X-Robots-Tag:noindex
X-PUBLISHED-TTL:PT1H
BEGIN:VTIMEZONE
TZID:America/Chicago
BEGIN:DAYLIGHT
TZOFFSETFROM:-0600
TZOFFSETTO:-0500
TZNAME:CDT
DTSTART:20240310T080000
END:DAYLIGHT
BEGIN:STANDARD
TZOFFSETFROM:-0500
TZOFFSETTO:-0600
TZNAME:CST
DTSTART:20241103T070000
END:STANDARD
BEGIN:DAYLIGHT
TZOFFSETFROM:-0600
TZOFFSETTO:-0500
TZNAME:CDT
DTSTART:20250309T080000
END:DAYLIGHT
BEGIN:STANDARD
TZOFFSETFROM:-0500
TZOFFSETTO:-0600
TZNAME:CST
DTSTART:20251102T070000
END:STANDARD
BEGIN:DAYLIGHT
TZOFFSETFROM:-0600
TZOFFSETTO:-0500
TZNAME:CDT
DTSTART:20260308T080000
END:DAYLIGHT
BEGIN:STANDARD
TZOFFSETFROM:-0500
TZOFFSETTO:-0600
TZNAME:CST
DTSTART:20261101T070000
END:STANDARD
END:VTIMEZONE
BEGIN:VEVENT
DTSTART;TZID=America/Chicago:20251222T073000
DTEND;TZID=America/Chicago:20251222T160000
DTSTAMP:20260419T072849
CREATED:20251219T212057Z
LAST-MODIFIED:20251221T220947Z
UID:10000087-1766388600-1766419200@nesupported.org
SUMMARY:ESUCC Closed
DESCRIPTION:Added by Mindy Reed 5.19.2025
URL:https://nesupported.org/event/esucc-closed/
CATEGORIES:ESUCC
END:VEVENT
BEGIN:VEVENT
DTSTART;TZID=America/Chicago:20251223T073000
DTEND;TZID=America/Chicago:20251223T160000
DTSTAMP:20260419T072849
CREATED:20251219T212057Z
LAST-MODIFIED:20251221T220947Z
UID:10000088-1766475000-1766505600@nesupported.org
SUMMARY:ESUCC Closed
DESCRIPTION:Added by Mindy Reed 5.19.2025
URL:https://nesupported.org/event/esucc-closed-2/
CATEGORIES:ESUCC
END:VEVENT
BEGIN:VEVENT
DTSTART;TZID=America/Chicago:20251224T073000
DTEND;TZID=America/Chicago:20251224T160000
DTSTAMP:20260419T072849
CREATED:20251219T212057Z
LAST-MODIFIED:20251221T220947Z
UID:10000089-1766561400-1766592000@nesupported.org
SUMMARY:ESUCC Closed
DESCRIPTION:Added by Mindy Reed 5.19.2025
URL:https://nesupported.org/event/esucc-closed-3/
CATEGORIES:ESUCC
END:VEVENT
BEGIN:VEVENT
DTSTART;TZID=America/Chicago:20251225T073000
DTEND;TZID=America/Chicago:20251225T160000
DTSTAMP:20260419T072849
CREATED:20251219T212057Z
LAST-MODIFIED:20251224T230455Z
UID:10000090-1766647800-1766678400@nesupported.org
SUMMARY:ESUCC Closed
DESCRIPTION:Added by Mindy Reed 5.19.2025
URL:https://nesupported.org/event/esucc-closed-4/
CATEGORIES:ESUCC
END:VEVENT
BEGIN:VEVENT
DTSTART;TZID=America/Chicago:20251226T073000
DTEND;TZID=America/Chicago:20251226T160000
DTSTAMP:20260419T072849
CREATED:20251219T212058Z
LAST-MODIFIED:20251224T230455Z
UID:10000091-1766734200-1766764800@nesupported.org
SUMMARY:ESUCC Closed
DESCRIPTION:Added by Mindy Reed 5.19.2025
URL:https://nesupported.org/event/esucc-closed-5/
CATEGORIES:ESUCC
END:VEVENT
BEGIN:VEVENT
DTSTART;TZID=America/Chicago:20251229T073000
DTEND;TZID=America/Chicago:20251229T160000
DTSTAMP:20260419T072849
CREATED:20251219T212058Z
LAST-MODIFIED:20251224T230456Z
UID:10000092-1766993400-1767024000@nesupported.org
SUMMARY:ESUCC Closed
DESCRIPTION:Added by Mindy Reed 5.19.2025
URL:https://nesupported.org/event/esucc-closed-6/
CATEGORIES:ESUCC
END:VEVENT
BEGIN:VEVENT
DTSTART;TZID=America/Chicago:20251230T073000
DTEND;TZID=America/Chicago:20251230T160000
DTSTAMP:20260419T072849
CREATED:20251219T212058Z
LAST-MODIFIED:20251224T230456Z
UID:10000093-1767079800-1767110400@nesupported.org
SUMMARY:ESUCC Closed
DESCRIPTION:Added by Mindy Reed 5.19.2025
URL:https://nesupported.org/event/esucc-closed-7/
CATEGORIES:ESUCC
END:VEVENT
BEGIN:VEVENT
DTSTART;TZID=America/Chicago:20251231T073000
DTEND;TZID=America/Chicago:20251231T160000
DTSTAMP:20260419T072849
CREATED:20251219T212058Z
LAST-MODIFIED:20251224T230456Z
UID:10000094-1767166200-1767196800@nesupported.org
SUMMARY:ESUCC Closed
DESCRIPTION:Added by Mindy Reed 5.19.2025
URL:https://nesupported.org/event/esucc-closed-8/
CATEGORIES:ESUCC
END:VEVENT
END:VCALENDAR