BEGIN:VCALENDAR
VERSION:2.0
PRODID:-//Nebraska Support Ed - ECPv6.15.20//NONSGML v1.0//EN
CALSCALE:GREGORIAN
METHOD:PUBLISH
X-WR-CALNAME:Nebraska Support Ed
X-ORIGINAL-URL:https://nesupported.org
X-WR-CALDESC:Events for Nebraska Support Ed
REFRESH-INTERVAL;VALUE=DURATION:PT1H
X-Robots-Tag:noindex
X-PUBLISHED-TTL:PT1H
BEGIN:VTIMEZONE
TZID:America/Chicago
BEGIN:DAYLIGHT
TZOFFSETFROM:-0600
TZOFFSETTO:-0500
TZNAME:CDT
DTSTART:20240310T080000
END:DAYLIGHT
BEGIN:STANDARD
TZOFFSETFROM:-0500
TZOFFSETTO:-0600
TZNAME:CST
DTSTART:20241103T070000
END:STANDARD
BEGIN:DAYLIGHT
TZOFFSETFROM:-0600
TZOFFSETTO:-0500
TZNAME:CDT
DTSTART:20250309T080000
END:DAYLIGHT
BEGIN:STANDARD
TZOFFSETFROM:-0500
TZOFFSETTO:-0600
TZNAME:CST
DTSTART:20251102T070000
END:STANDARD
BEGIN:DAYLIGHT
TZOFFSETFROM:-0600
TZOFFSETTO:-0500
TZNAME:CDT
DTSTART:20260308T080000
END:DAYLIGHT
BEGIN:STANDARD
TZOFFSETFROM:-0500
TZOFFSETTO:-0600
TZNAME:CST
DTSTART:20261101T070000
END:STANDARD
END:VTIMEZONE
BEGIN:VEVENT
DTSTART;TZID=America/Chicago:20251004T083000
DTEND;TZID=America/Chicago:20251004T153000
DTSTAMP:20260419T115618
CREATED:20250916T132741Z
LAST-MODIFIED:20250916T132741Z
UID:10000049-1759566600-1759591800@nesupported.org
SUMMARY:NILA Conference
DESCRIPTION:Nebraska Language Association  \nwww.nebraskalanguages.org/2025-vendor-registration.html
URL:https://nesupported.org/event/nila-conference/
LOCATION:University of Nebraska Kearney\, 2504 9th Ave\, Kearney\, NE\, United States
CATEGORIES:ESUCC
GEO:40.700484;-99.094042
X-APPLE-STRUCTURED-LOCATION;VALUE=URI;X-ADDRESS=University of Nebraska Kearney 2504 9th Ave Kearney NE United States;X-APPLE-RADIUS=500;X-TITLE=2504 9th Ave:geo:-99.094042,40.700484
END:VEVENT
BEGIN:VEVENT
DTSTART;TZID=America/Chicago:20251008T100000
DTEND;TZID=America/Chicago:20251008T143000
DTSTAMP:20260419T115618
CREATED:20250714T191027Z
LAST-MODIFIED:20250714T191027Z
UID:10000008-1759917600-1759933800@nesupported.org
SUMMARY:Digital Citizenship Symposium
DESCRIPTION:ESU 10\, ESU 7\, ESU 5\, ESU 3\, ESU 13
URL:https://nesupported.org/event/digital-citizenship-symposium/
CATEGORIES:ESUCC
END:VEVENT
BEGIN:VEVENT
DTSTART;TZID=America/Chicago:20251013T083000
DTEND;TZID=America/Chicago:20251013T163000
DTSTAMP:20260419T115618
CREATED:20250916T132741Z
LAST-MODIFIED:20250929T180400Z
UID:10000050-1760344200-1760373000@nesupported.org
SUMMARY:NREA Convention
DESCRIPTION:The National Forum to Advance Rural Education isn’t just a conference—it’s a dynamic\, high-energy experience where passion fuels innovation and ideas spark real change. \nGet ready for three days packed with inspiring keynotes\, engaging learning sessions\, and powerful networking opportunities\, all designed to spark new ideas and tackle the unique challenges and opportunities of rural education.  \nWhether you’re an educator\, researcher\, policymaker\, or advocate\, this is your chance to connect with visionary leaders\, groundbreaking thinkers\, and dedicated changemakers who are shaping the future of rural education. \nThis year’s theme is Deeply Rooted in Rural Education: Place\, Partnerships\, and Possibilities and will explore bold ideas\, transformative solutions\, and the latest research that will challenge perspectives\, inspire action\, and shape lasting impact in rural education. \nnfare@nrea.site
URL:https://nesupported.org/event/nrea-convention/
LOCATION:Hyatt Regency Salt Lake City\, 300 N Temple St\, Salt Lake City\, UT\, United States
CATEGORIES:ESUCC,Statewide Education Associations
GEO:40.771544;-111.899675
X-APPLE-STRUCTURED-LOCATION;VALUE=URI;X-ADDRESS=Hyatt Regency Salt Lake City 300 N Temple St Salt Lake City UT United States;X-APPLE-RADIUS=500;X-TITLE=300 N Temple St:geo:-111.899675,40.771544
END:VEVENT
BEGIN:VEVENT
DTSTART;TZID=America/Chicago:20251014T083000
DTEND;TZID=America/Chicago:20251014T163000
DTSTAMP:20260419T115618
CREATED:20250916T132741Z
LAST-MODIFIED:20251014T103442Z
UID:10000051-1760430600-1760459400@nesupported.org
SUMMARY:NREA Convention
DESCRIPTION:The National Forum to Advance Rural Education isn’t just a conference—it’s a dynamic\, high-energy experience where passion fuels innovation and ideas spark real change. \nGet ready for three days packed with inspiring keynotes\, engaging learning sessions\, and powerful networking opportunities\, all designed to spark new ideas and tackle the unique challenges and opportunities of rural education.  \nWhether you’re an educator\, researcher\, policymaker\, or advocate\, this is your chance to connect with visionary leaders\, groundbreaking thinkers\, and dedicated changemakers who are shaping the future of rural education. \nThis year’s theme is Deeply Rooted in Rural Education: Place\, Partnerships\, and Possibilities and will explore bold ideas\, transformative solutions\, and the latest research that will challenge perspectives\, inspire action\, and shape lasting impact in rural education. \nnfare@nrea.site
URL:https://nesupported.org/event/nrea-convention-2/
LOCATION:Hyatt Regency Salt Lake City\, 300 N Temple St\, Salt Lake City\, UT\, United States
CATEGORIES:ESUCC,Statewide Education Associations
GEO:40.771544;-111.899675
X-APPLE-STRUCTURED-LOCATION;VALUE=URI;X-ADDRESS=Hyatt Regency Salt Lake City 300 N Temple St Salt Lake City UT United States;X-APPLE-RADIUS=500;X-TITLE=300 N Temple St:geo:-111.899675,40.771544
END:VEVENT
BEGIN:VEVENT
DTSTART;TZID=America/Chicago:20251016T151500
DTEND;TZID=America/Chicago:20251016T161500
DTSTAMP:20260419T115618
CREATED:20250714T191027Z
LAST-MODIFIED:20250714T191027Z
UID:10000009-1760627700-1760631300@nesupported.org
SUMMARY:TLT Leadership 2024-2025
DESCRIPTION:Added by Mindy Reed 2.17.2025
URL:https://nesupported.org/event/tlt-leadership-2024-2025/
LOCATION:https://zoom.us/j/282-0896822
CATEGORIES:ESUCC
END:VEVENT
BEGIN:VEVENT
DTSTART;TZID=America/Chicago:20251022T090000
DTEND;TZID=America/Chicago:20251022T153000
DTSTAMP:20260419T115618
CREATED:20250714T191027Z
LAST-MODIFIED:20250714T191027Z
UID:10000010-1761123600-1761147000@nesupported.org
SUMMARY:TLT Training- Accessibility
DESCRIPTION:Added by Mindy Reed 2.18.2025
URL:https://nesupported.org/event/tlt-training-accessibility/
LOCATION:Educational Service Unit #3\, 6949 S 110th St\, La Vista\, NE\, United States
CATEGORIES:ESUCC
GEO:41.190216;-96.08829
X-APPLE-STRUCTURED-LOCATION;VALUE=URI;X-ADDRESS=Educational Service Unit #3 6949 S 110th St La Vista NE United States;X-APPLE-RADIUS=500;X-TITLE=6949 S 110th St:geo:-96.08829,41.190216
END:VEVENT
BEGIN:VEVENT
DTSTART;TZID=America/Chicago:20251023T090000
DTEND;TZID=America/Chicago:20251023T153000
DTSTAMP:20260419T115618
CREATED:20250714T191027Z
LAST-MODIFIED:20250714T191027Z
UID:10000011-1761210000-1761233400@nesupported.org
SUMMARY:TLT Training - AI
DESCRIPTION:Added by Mindy Reed 2.18.2025
URL:https://nesupported.org/event/tlt-training-ai/
LOCATION:Educational Service Unit #3\, 6949 S 110th St\, La Vista\, NE\, United States
CATEGORIES:ESUCC
GEO:41.190216;-96.08829
X-APPLE-STRUCTURED-LOCATION;VALUE=URI;X-ADDRESS=Educational Service Unit #3 6949 S 110th St La Vista NE United States;X-APPLE-RADIUS=500;X-TITLE=6949 S 110th St:geo:-96.08829,41.190216
END:VEVENT
BEGIN:VEVENT
DTSTART;TZID=America/Chicago:20251027T110000
DTEND;TZID=America/Chicago:20251027T120000
DTSTAMP:20260419T115618
CREATED:20250714T191027Z
LAST-MODIFIED:20250714T191027Z
UID:10000012-1761562800-1761566400@nesupported.org
SUMMARY:TLT/Distance Learning Coordinators 2025-2026
DESCRIPTION:Added by Mindy Reed 2.17.2025
URL:https://nesupported.org/event/tlt-distance-learning-coordinators-2025-2026-2/
LOCATION:https://zoom.us/my/eastonzoom
CATEGORIES:ESUCC
END:VEVENT
END:VCALENDAR