BEGIN:VCALENDAR
VERSION:2.0
PRODID:-//Nebraska Support Ed - ECPv6.15.20//NONSGML v1.0//EN
CALSCALE:GREGORIAN
METHOD:PUBLISH
X-ORIGINAL-URL:https://nesupported.org
X-WR-CALDESC:Events for Nebraska Support Ed
REFRESH-INTERVAL;VALUE=DURATION:PT1H
X-Robots-Tag:noindex
X-PUBLISHED-TTL:PT1H
BEGIN:VTIMEZONE
TZID:America/Chicago
BEGIN:DAYLIGHT
TZOFFSETFROM:-0600
TZOFFSETTO:-0500
TZNAME:CDT
DTSTART:20240310T080000
END:DAYLIGHT
BEGIN:STANDARD
TZOFFSETFROM:-0500
TZOFFSETTO:-0600
TZNAME:CST
DTSTART:20241103T070000
END:STANDARD
BEGIN:DAYLIGHT
TZOFFSETFROM:-0600
TZOFFSETTO:-0500
TZNAME:CDT
DTSTART:20250309T080000
END:DAYLIGHT
BEGIN:STANDARD
TZOFFSETFROM:-0500
TZOFFSETTO:-0600
TZNAME:CST
DTSTART:20251102T070000
END:STANDARD
BEGIN:DAYLIGHT
TZOFFSETFROM:-0600
TZOFFSETTO:-0500
TZNAME:CDT
DTSTART:20260308T080000
END:DAYLIGHT
BEGIN:STANDARD
TZOFFSETFROM:-0500
TZOFFSETTO:-0600
TZNAME:CST
DTSTART:20261101T070000
END:STANDARD
END:VTIMEZONE
BEGIN:VEVENT
DTSTART;TZID=America/Chicago:20250908T151500
DTEND;TZID=America/Chicago:20250908T161500
DTSTAMP:20260421T084001
CREATED:20250714T191026Z
LAST-MODIFIED:20250714T191026Z
UID:10000005-1757344500-1757348100@nesupported.org
SUMMARY:TLT Leadership 2025-2026
DESCRIPTION:Added by Mindy Reed 2.17.2025
URL:https://nesupported.org/event/tlt-leadership-2025-2026/
LOCATION:https://zoom.us/j/282-0896822
CATEGORIES:ESUCC
END:VEVENT
BEGIN:VEVENT
DTSTART;TZID=America/Chicago:20250909T110000
DTEND;TZID=America/Chicago:20250909T173000
DTSTAMP:20260421T084001
CREATED:20250714T191026Z
LAST-MODIFIED:20250714T191026Z
UID:10000006-1757415600-1757439000@nesupported.org
SUMMARY:TLT Meeting
DESCRIPTION:Added by Mindy Reed 2.17.2025
URL:https://nesupported.org/event/tlt-meeting/
LOCATION:ESU 10\, 78 Plaza Blvd\, Kearney\, NE\, United States
CATEGORIES:ESUCC
GEO:40.696198;-99.117443
X-APPLE-STRUCTURED-LOCATION;VALUE=URI;X-ADDRESS=ESU 10 78 Plaza Blvd Kearney NE United States;X-APPLE-RADIUS=500;X-TITLE=78 Plaza Blvd:geo:-99.117443,40.696198
END:VEVENT
BEGIN:VEVENT
DTSTART;TZID=America/Chicago:20250929T110000
DTEND;TZID=America/Chicago:20250929T120000
DTSTAMP:20260421T084001
CREATED:20250714T191026Z
LAST-MODIFIED:20250714T191026Z
UID:10000007-1759143600-1759147200@nesupported.org
SUMMARY:TLT/Distance Learning Coordinators 2025-2026
DESCRIPTION:Added by Mindy Reed 2.17.2025
URL:https://nesupported.org/event/tlt-distance-learning-coordinators-2025-2026/
LOCATION:https://zoom.us/my/eastonzoom
CATEGORIES:ESUCC
END:VEVENT
END:VCALENDAR