BEGIN:VCALENDAR
VERSION:2.0
PRODID:-//Nebraska Support Ed - ECPv6.15.20//NONSGML v1.0//EN
CALSCALE:GREGORIAN
METHOD:PUBLISH
X-ORIGINAL-URL:https://nesupported.org
X-WR-CALDESC:Events for Nebraska Support Ed
REFRESH-INTERVAL;VALUE=DURATION:PT1H
X-Robots-Tag:noindex
X-PUBLISHED-TTL:PT1H
BEGIN:VTIMEZONE
TZID:America/Chicago
BEGIN:DAYLIGHT
TZOFFSETFROM:-0600
TZOFFSETTO:-0500
TZNAME:CDT
DTSTART:20250309T080000
END:DAYLIGHT
BEGIN:STANDARD
TZOFFSETFROM:-0500
TZOFFSETTO:-0600
TZNAME:CST
DTSTART:20251102T070000
END:STANDARD
BEGIN:DAYLIGHT
TZOFFSETFROM:-0600
TZOFFSETTO:-0500
TZNAME:CDT
DTSTART:20260308T080000
END:DAYLIGHT
BEGIN:STANDARD
TZOFFSETFROM:-0500
TZOFFSETTO:-0600
TZNAME:CST
DTSTART:20261101T070000
END:STANDARD
BEGIN:DAYLIGHT
TZOFFSETFROM:-0600
TZOFFSETTO:-0500
TZNAME:CDT
DTSTART:20270314T080000
END:DAYLIGHT
BEGIN:STANDARD
TZOFFSETFROM:-0500
TZOFFSETTO:-0600
TZNAME:CST
DTSTART:20271107T070000
END:STANDARD
END:VTIMEZONE
BEGIN:VEVENT
DTSTART;TZID=America/Chicago:20261117T080000
DTEND;TZID=America/Chicago:20261117T084500
DTSTAMP:20260425T094450
CREATED:20260120T185315Z
LAST-MODIFIED:20260324T105839Z
UID:10000140-1794902400-1794905100@nesupported.org
SUMMARY:ESUCC Executive Committee Meeting
DESCRIPTION:Added by Mindy Reed 1.19.2026
URL:https://nesupported.org/event/esucc-executive-committee-meeting-8/
CATEGORIES:ESUCC
END:VEVENT
BEGIN:VEVENT
DTSTART;TZID=America/Chicago:20261117T090000
DTEND;TZID=America/Chicago:20261117T094500
DTSTAMP:20260425T094450
CREATED:20260120T185315Z
LAST-MODIFIED:20260324T105839Z
UID:10000141-1794906000-1794908700@nesupported.org
SUMMARY:ESUCC Educational Resources Committee Meeting
DESCRIPTION:Added by Mindy Reed 1.19.2026
URL:https://nesupported.org/event/esucc-educational-resources-committee-meeting-8/
CATEGORIES:ESUCC
END:VEVENT
BEGIN:VEVENT
DTSTART;TZID=America/Chicago:20261117T100000
DTEND;TZID=America/Chicago:20261117T104500
DTSTAMP:20260425T094450
CREATED:20260120T185315Z
LAST-MODIFIED:20260324T105840Z
UID:10000142-1794909600-1794912300@nesupported.org
SUMMARY:ESUCC Legal Committee Meeting
DESCRIPTION:Added by Mindy Reed 1.19.2026
URL:https://nesupported.org/event/esucc-legal-committee-meeting-8/
CATEGORIES:ESUCC
END:VEVENT
BEGIN:VEVENT
DTSTART;TZID=America/Chicago:20261117T110000
DTEND;TZID=America/Chicago:20261117T114500
DTSTAMP:20260425T094450
CREATED:20260120T185316Z
LAST-MODIFIED:20260324T105840Z
UID:10000143-1794913200-1794915900@nesupported.org
SUMMARY:ESUCC Information Services Committee Meeting
DESCRIPTION:Added by Mindy Reed 1.19.2026
URL:https://nesupported.org/event/esucc-information-services-committee-meeting-8/
CATEGORIES:ESUCC
END:VEVENT
BEGIN:VEVENT
DTSTART;TZID=America/Chicago:20261117T120000
DTEND;TZID=America/Chicago:20261117T160000
DTSTAMP:20260425T094450
CREATED:20260120T185316Z
LAST-MODIFIED:20260324T105840Z
UID:10000144-1794916800-1794931200@nesupported.org
SUMMARY:ESUCC Board Meeting
DESCRIPTION:Added by Mindy Reed 1.19.2026
URL:https://nesupported.org/event/esucc-board-meeting-3/
CATEGORIES:ESUCC
END:VEVENT
END:VCALENDAR